Workbook

Sheet Basic
A1: Note: Field Marked | D1: are input field and mandatory
A3: Name of the Establishment : | D3: # Firm Name
O4: CLICK HERE FOR INSTRUCTIONS TO USE THIS WORKSHEET
A5: Address: | B5: 123, ABC Street, INDIA
A7: PF CODE: | B7: WB\--------
H8: Rate of Contibution | K8: 12 | L8: (%)
A9: ESI CODE: | B9: 41-38838-19
A11: Currency Period: | C11: 1st April | D11: 2009 | E11: to | F11: 31st March | G11: 2010 | H11: ( Change in color indicate errorenous input)
A12: BASIC MONTHLY SALARY
C13: Employees Name | J13: JAN | K13: =D11 -> 2009 | L13: FEB | M13: =D11 -> 2009 | N13: MAR | O13: =D11 -> 2009 | P13: APR | Q13: =D11 -> 2009 | R13: MAY | S13: =D11 -> 2009 | T13: JUN | U13: =D11 -> 2009 | V13: JUL | W13: =D11 -> 2009 | X13: AUG | Y13: =D11 -> 2009 | Z13: SEP | AA13: =D11 -> 2009 | AB13: OCT | AC13: =D11 -> 2009 | AD13: NOV | AE13: =D11 -> 2009 | AF13: DEC | AG13: =D11 -> 2009 | AH13: JAN | AI13: =G11 -> 2010 | AJ13: FEB | AK13: =G11 -> 2010 | AL13: MAR | AM13: =G11 -> 2010
A14: Employee 1 : | C14: A | J14: 10000 | L14: =J14 -> 10000 | N14: =L14 -> 10000 | P14: =N14 -> 10000 | R14: =P14 -> 10000 | T14: =R14 -> 10000 | V14: =T14 -> 10000 | X14: =V14 -> 10000 | Z14: =X14 -> 10000 | AB14: =Z14 -> 10000 | AD14: =AB14 -> 10000 | AF14: =AD14 -> 10000 | AH14: =AF14 -> 10000 | AJ14: =AH14 -> 10000 | AL14: =AJ14 -> 10000
A15: Employee 2 : | C15: B | J15: 0 | L15: =J15 -> 0 | N15: =L15 -> 0 | P15: =N15 -> 0 | R15: =P15 -> 0 | T15: =R15 -> 0 | V15: =T15 -> 0 | X15: =V15 -> 0 | Z15: =X15 -> 0 | AB15: =Z15 -> 0 | AD15: =AB15 -> 0 | AF15: =AD15 -> 0 | AH15: =AF15 -> 0 | AJ15: =AH15 -> 0 | AL15: =AJ15 -> 0
A16: Employee 3 : | C16: C | J16: 0 | L16: =J16 -> 0 | N16: =L16 -> 0 | P16: =N16 -> 0 | R16: =P16 -> 0 | T16: =R16 -> 0 | V16: =T16 -> 0 | X16: =V16 -> 0 | Z16: =X16 -> 0 | AB16: =Z16 -> 0 | AD16: =AB16 -> 0 | AF16: =AD16 -> 0 | AH16: =AF16 -> 0 | AJ16: =AH16 -> 0 | AL16: =AJ16 -> 0
A17: Employee 4 : | C17: D | J17: 0 | L17: =J17 -> 0 | N17: =L17 -> 0 | P17: =N17 -> 0 | R17: =P17 -> 0 | T17: =R17 -> 0 | V17: =T17 -> 0 | X17: =V17 -> 0 | Z17: =X17 -> 0 | AB17: =Z17 -> 0 | AD17: =AB17 -> 0 | AF17: =AD17 -> 0 | AH17: =AF17 -> 0 | AJ17: =AH17 -> 0 | AL17: =AJ17 -> 0
A18: Employee 5 : | C18: E | J18: 0 | L18: =J18 -> 0 | N18: =L18 -> 0 | P18: =N18 -> 0 | R18: =P18 -> 0 | T18: =R18 -> 0 | V18: =T18 -> 0 | X18: =V18 -> 0 | Z18: =X18 -> 0 | AB18: =Z18 -> 0 | AD18: =AB18 -> 0 | AF18: =AD18 -> 0 | AH18: =AF18 -> 0 | AJ18: =AH18 -> 0 | AL18: =AJ18 -> 0
A19: Employee 6 : | C19: F | J19: 0 | L19: =J19 -> 0 | N19: =L19 -> 0 | P19: =N19 -> 0 | R19: =P19 -> 0 | T19: =R19 -> 0 | V19: =T19 -> 0 | X19: =V19 -> 0 | Z19: =X19 -> 0 | AB19: =Z19 -> 0 | AD19: =AB19 -> 0 | AF19: =AD19 -> 0 | AH19: =AF19 -> 0 | AJ19: =AH19 -> 0 | AL19: =AJ19 -> 0
A20: Employee 7 : | C20: G | J20: 0 | L20: =J20 -> 0 | N20: =L20 -> 0 | P20: =N20 -> 0 | R20: =P20 -> 0 | T20: =R20 -> 0 | V20: =T20 -> 0 | X20: =V20 -> 0 | Z20: =X20 -> 0 | AB20: =Z20 -> 0 | AD20: =AB20 -> 0 | AF20: =AD20 -> 0 | AH20: =AF20 -> 0 | AJ20: =AH20 -> 0 | AL20: =AJ20 -> 0
A21: Employee 8 : | C21: H | J21: 0 | L21: =J21 -> 0 | N21: =L21 -> 0 | P21: =N21 -> 0 | R21: =P21 -> 0 | T21: =R21 -> 0 | V21: =T21 -> 0 | X21: =V21 -> 0 | Z21: =X21 -> 0 | AB21: =Z21 -> 0 | AD21: =AB21 -> 0 | AF21: =AD21 -> 0 | AH21: =AF21 -> 0 | AJ21: =AH21 -> 0 | AL21: =AJ21 -> 0
A22: Employee 9 : | C22: I | J22: 0 | L22: =J22 -> 0 | N22: =L22 -> 0 | P22: =N22 -> 0 | R22: =P22 -> 0 | T22: =R22 -> 0 | V22: =T22 -> 0 | X22: =V22 -> 0 | Z22: =X22 -> 0 | AB22: =Z22 -> 0 | AD22: =AB22 -> 0 | AF22: =AD22 -> 0 | AH22: =AF22 -> 0 | AJ22: =AH22 -> 0 | AL22: =AJ22 -> 0
A23: Employee 10 : | C23: J | J23: 0 | L23: =J23 -> 0 | N23: =L23 -> 0 | P23: =N23 -> 0 | R23: =P23 -> 0 | T23: =R23 -> 0 | V23: =T23 -> 0 | X23: =V23 -> 0 | Z23: =X23 -> 0 | AB23: =Z23 -> 0 | AD23: =AB23 -> 0 | AF23: =AD23 -> 0 | AH23: =AF23 -> 0 | AJ23: =AH23 -> 0 | AL23: =AJ23 -> 0
A24: Employee 11 : | C24: K | J24: 0 | L24: =J24 -> 0 | N24: =L24 -> 0 | P24: =N24 -> 0 | R24: =P24 -> 0 | T24: =R24 -> 0 | V24: =T24 -> 0 | X24: =V24 -> 0 | Z24: =X24 -> 0 | AB24: =Z24 -> 0 | AD24: =AB24 -> 0 | AF24: =AD24 -> 0 | AH24: =AF24 -> 0 | AJ24: =AH24 -> 0 | AL24: =AJ24 -> 0
A25: Employee 12 : | C25: L | J25: 0 | L25: =J25 -> 0 | N25: =L25 -> 0 | P25: =N25 -> 0 | R25: =P25 -> 0 | T25: =R25 -> 0 | V25: =T25 -> 0 | X25: =V25 -> 0 | Z25: =X25 -> 0 | AB25: =Z25 -> 0 | AD25: =AB25 -> 0 | AF25: =AD25 -> 0 | AH25: =AF25 -> 0 | AJ25: =AH25 -> 0 | AL25: =AJ25 -> 0
... A28: Employee 15 : | C28: O | J28: 0 | L28: =J28 -> 0 | N28: =L28 -> 0 | P28: =N28 -> 0 | R28: =P28 -> 0 | T28: =R28 -> 0 | V28: =T28 -> 0 | X28: =V28 -> 0 | Z28: =X28 -> 0 | AB28: =Z28 -> 0 | AD28: =AB28 -> 0 | AF28: =AD28 -> 0 | AH28: =AF28 -> 0 | AJ28: =AH28 -> 0 | AL28: =AJ28 -> 0
A33: Nos. of day in a month: | D33: April | E33: - | F33: =D11 -> 2009 | G33: 30 | H33: (Default)
D34: May | E34: - | F34: =D11 -> 2009 | G34: 31 | H34: (Default)
D35: June | E35: - | F35: =D11 -> 2009 | G35: 30 | H35: (Default)
D36: July | E36: - | F36: =D11 -> 2009 | G36: 31 | H36: (Default)
D37: Aug | E37: - | F37: =D11 -> 2009 | G37: 31 | H37: (Default)
D38: Sep | E38: - | F38: =D11 -> 2009 | G38: 30 | H38: (Default)
D39: Oct | E39: - | F39: =D11 -> 2009 | G39: 31 | H39: (Default)
D40: Nov | E40: - | F40: =D11 -> 2009 | G40: 30 | H40: (Default)
D41: Dec | E41: - | F41: =D11 -> 2009 | G41: 31 | H41: (Default)
D42: Jan | E42: - | F42: =G11 -> 2010 | G42: 31 | H42: (Default)
D43: Feb | E43: - | F43: =G11 -> 2010 | G43: 29 | H43: (Default)
D44: Mar | E44: - | F44: =G11 -> 2010 | G44: 31 | H44: (Default)
A48: Bonus Rate (%) | C48: 16.65
A50: (All the sheets in the workbook are co-related. For Accurate Information do provide all the required informations )
A52: VIEW RESULTS

Sheet ATTENDANCE
A1: =Basic!D3 -> # Firm Name
A2: =Basic!B5 -> 123, ABC Street, INDIA
A3: CURRENCY PERIOD: | C3: =Basic!D11 -> 2009 | D3: - | E3: =Basic!G11 -> 2010 | G3: =Basic!D11 -> 2009 | S3: =Basic!G11 -> 2010
G4: Jan | H4: Feb | I4: Mar | J4: Apr | K4: May | L4: Jun | M4: Jul | N4: Aug | O4: Sep | P4: Oct | Q4: Nov | R4: Dec | S4: Jan | T4: Feb | U4: Mar
F5: TOTAL DAYS | J5: =Basic!G33 -> 30 | K5: =Basic!G34 -> 31 | L5: =Basic!G35 -> 30 | M5: =Basic!G36 -> 31 | N5: =Basic!G37 -> 31 | O5: =Basic!G38 -> 30 | P5: =Basic!G39 -> 31 | Q5: =Basic!G40 -> 30 | R5: =Basic!G41 -> 31 | S5: =Basic!G42 -> 31 | T5: =Basic!G43 -> 29 | U5: =Basic!G44 -> 31
A6: =Basic!C14 -> A | G6: 0 | H6: 0 | I6: 0 | J6: 30 | K6: 0 | L6: 0 | M6: 0 | N6: 0 | O6: 0 | P6: 0 | Q6: 0 | R6: 0 | S6: 0 | T6: 0 | U6: 0
A7: =Basic!C15 -> B | G7: 0 | H7: 0 | I7: 0 | J7: 0 | K7: 0 | L7: 0 | M7: 0 | N7: 0 | O7: 0 | P7: 0 | Q7: 0 | R7: 0 | S7: 0 | T7: 0 | U7: 0
A8: =Basic!C16 -> C | G8: 0 | H8: 0 | I8: 0 | J8: 0 | K8: 0 | L8: 0 | M8: 0 | N8: 0 | O8: 0 | P8: 0 | Q8: 0 | R8: 0 | S8: 0 | T8: 0 | U8: 0
A9: =Basic!C17 -> D | G9: 0 | H9: 0 | I9: 0 | J9: 0 | K9: 0 | L9: 0 | M9: 0 | N9: 0 | O9: 0 | P9: 0 | Q9: 0 | R9: 0 | S9: 0 | T9: 0 | U9: 0
A10: =Basic!C18 -> E | G10: 0 | H10: 0 | I10: 0 | J10: 0 | K10: 0 | L10: 0 | M10: 0 | N10: 0 | O10: 0 | P10: 0 | Q10: 0 | R10: 0 | S10: 0 | T10: 0 | U10: 0
A11: =Basic!C19 -> F | G11: 0 | H11: 0 | I11: 0 | J11: 0 | K11: 0 | L11: 0 | M11: 0 | N11: 0 | O11: 0 | P11: 0 | Q11: 0 | R11: 0 | S11: 0 | T11: 0 | U11: 0
A12: =Basic!C20 -> G | G12: 0 | H12: 0 | I12: 0 | J12: 0 | K12: 0 | L12: 0 | M12: 0 | N12: 0 | O12: 0 | P12: 0 | Q12: 0 | R12: 0 | S12: 0 | T12: 0 | U12: 0
A13: =Basic!C21 -> H | G13: 0 | H13: 0 | I13: 0 | J13: 0 | K13: 0 | L13: 0 | M13: 0 | N13: 0 | O13: 0 | P13: 0 | Q13: 0 | R13: 0 | S13: 0 | T13: 0 | U13: 0
A14: =Basic!C22 -> I | G14: 0 | H14: 0 | I14: 0 | J14: 0 | K14: 0 | L14: 0 | M14: 0 | N14: 0 | O14: 0 | P14: 0 | Q14: 0 | R14: 0 | S14: 0 | T14: 0 | U14: 0
A15: =Basic!C23 -> J | G15: 0 | H15: 0 | I15: 0 | J15: 0 | K15: 0 | L15: 0 | M15: 0 | N15: 0 | O15: 0 | P15: 0 | Q15: 0 | R15: 0 | S15: 0 | T15: 0 | U15: 0
A16: =Basic!C24 -> K | G16: 0 | H16: 0 | I16: 0 | J16: 0 | K16: 0 | L16: 0 | M16: 0 | N16: 0 | O16: 0 | P16: 0 | Q16: 0 | R16: 0 | S16: 0 | T16: 0 | U16: 0
A17: =Basic!C25 -> L | G17: 0 | H17: 0 | I17: 0 | J17: 0 | K17: 0 | L17: 0 | M17: 0 | N17: 0 | O17: 0 | P17: 0 | Q17: 0 | R17: 0 | S17: 0 | T17: 0 | U17: 0
... A20: =Basic!C28 -> O | G20: 0 | H20: 0 | I20: 0 | J20: 0 | K20: 0 | L20: 0 | M20: 0 | N20: 0 | O20: 0 | P20: 0 | Q20: 0 | R20: 0 | S20: 0 | T20: 0 | U20: 0
F22: Total | J22: =SUM(J6:J20) -> 30 | K22: =SUM(K6:K20) -> 0 | L22: =SUM(L6:L20) -> 0 | M22: =SUM(M6:M20) -> 0 | N22: =SUM(N6:N20) -> 0 | O22: =SUM(O6:O20) -> 0 | P22: =SUM(P6:P20) -> 0 | Q22: =SUM(Q6:Q20) -> 0 | ... U22: =SUM(U6:U20) -> 0
B24: Main Page
B25: Result Page

Sheet 04
A1: =Basic!D3 -> # Firm Name
A2: =Basic!B5 -> 123, ABC Street, INDIA
I3: APRIL | J3: =Basic!D11 -> 2009
G5: Salary Payable | H5: Provident fund | I5: E.S.I Employee Contribution | J5: Total Deduction | K5: Net Salary | L5: E.P.F
A6: =Basic!C14 -> A | G6: =(Basic!P14)*(ATTENDANCE!J6)/(Basic!G33) -> 10000 | H6: =ROUNDUP(G6*Basic!K8/100,0.99) -> 1200 | I6: =ROUNDUP(G6*1.75%,0.99) -> 175 | J6: =H6+I6 -> 1375 | K6: =G6-J6 -> 8625 | L6: =ROUNDUP(G6*25/300,0.99) -> 834
A7: =Basic!C15 -> B | G7: =(Basic!P15)*(ATTENDANCE!J7)/(Basic!G33) -> 0 | H7: =ROUNDUP(G7*Basic!K8/100,0.99) -> 0 | I7: =ROUNDUP(G7*1.75%,0.99) -> 0 | J7: =H7+I7 -> 0 | K7: =G7-J7 -> 0 | L7: =ROUNDUP(G7*25/300,0.99) -> 0
A8: =Basic!C16 -> C | G8: =(Basic!P16)*(ATTENDANCE!J8)/(Basic!G33) -> 0 | H8: =ROUNDUP(G8*Basic!K8/100,0.99) -> 0 | I8: =ROUNDUP(G8*1.75%,0.99) -> 0 | J8: =H8+I8 -> 0 | K8: =G8-J8 -> 0 | L8: =ROUNDUP(G8*25/300,0.99) -> 0
A9: =Basic!C17 -> D | G9: =(Basic!P17)*(ATTENDANCE!J9)/(Basic!G33) -> 0 | H9: =ROUNDUP(G9*Basic!K8/100,0.99) -> 0 | I9: =ROUNDUP(G9*1.75%,0.99) -> 0 | J9: =H9+I9 -> 0 | K9: =G9-J9 -> 0 | L9: =ROUNDUP(G9*25/300,0.99) -> 0
A10: =Basic!C18 -> E | G10: =(Basic!P18)*(ATTENDANCE!J10)/(Basic!G33) -> 0 | H10: =ROUNDUP(G10*Basic!K8/100,0.99) -> 0 | I10: =ROUNDUP(G10*1.75%,0.99) -> 0 | J10: =H10+I10 -> 0 | K10: =G10-J10 -> 0 | L10: =ROUNDUP(G10*25/300,0.99) -> 0
A11: =Basic!C19 -> F | G11: =(Basic!P19)*(ATTENDANCE!J11)/(Basic!G33) -> 0 | H11: =ROUNDUP(G11*Basic!K8/100,0.99) -> 0 | I11: =ROUNDUP(G11*1.75%,0.99) -> 0 | J11: =H11+I11 -> 0 | K11: =G11-J11 -> 0 | L11: =ROUNDUP(G11*25/300,0.99) -> 0
A12: =Basic!C20 -> G | G12: =(Basic!P20)*(ATTENDANCE!J12)/(Basic!G33) -> 0 | H12: =ROUNDUP(G12*Basic!K8/100,0.99) -> 0 | I12: =ROUNDUP(G12*1.75%,0.99) -> 0 | J12: =H12+I12 -> 0 | K12: =G12-J12 -> 0 | L12: =ROUNDUP(G12*25/300,0.99) -> 0
A13: =Basic!C21 -> H | G13: =(Basic!P21)*(ATTENDANCE!J13)/(Basic!G33) -> 0 | H13: =ROUNDUP(G13*Basic!K8/100,0.99) -> 0 | I13: =ROUNDUP(G13*1.75%,0.99) -> 0 | J13: =H13+I13 -> 0 | K13: =G13-J13 -> 0 | L13: =ROUNDUP(G13*25/300,0.99) -> 0
A14: =Basic!C22 -> I | G14: =(Basic!P22)*(ATTENDANCE!J14)/(Basic!G33) -> 0 | H14: =ROUNDUP(G14*Basic!K8/100,0.99) -> 0 | I14: =ROUNDUP(G14*1.75%,0.99) -> 0 | J14: =H14+I14 -> 0 | K14: =G14-J14 -> 0 | L14: =ROUNDUP(G14*25/300,0.99) -> 0
A15: =Basic!C23 -> J | G15: =(Basic!P23)*(ATTENDANCE!J15)/(Basic!G33) -> 0 | H15: =ROUNDUP(G15*Basic!K8/100,0.99) -> 0 | I15: =ROUNDUP(G15*1.75%,0.99) -> 0 | J15: =H15+I15 -> 0 | K15: =G15-J15 -> 0 | L15: =ROUNDUP(G15*25/300,0.99) -> 0
A16: =Basic!C24 -> K | G16: =(Basic!P24)*(ATTENDANCE!J16)/(Basic!G33) -> 0 | H16: =ROUNDUP(G16*Basic!K8/100,0.99) -> 0 | I16: =ROUNDUP(G16*1.75%,0.99) -> 0 | J16: =H16+I16 -> 0 | K16: =G16-J16 -> 0 | L16: =ROUNDUP(G16*25/300,0.99) -> 0
A17: =Basic!C25 -> L | G17: =(Basic!P25)*(ATTENDANCE!J17)/(Basic!G33) -> 0 | H17: =ROUNDUP(G17*Basic!K8/100,0.99) -> 0 | I17: =ROUNDUP(G17*1.75%,0.99) -> 0 | J17: =H17+I17 -> 0 | K17: =G17-J17 -> 0 | L17: =ROUNDUP(G17*25/300,0.99) -> 0
A18: =Basic!C26 -> M | G18: =(Basic!P26)*(ATTENDANCE!J18)/(Basic!G33) -> 0 | H18: =ROUNDUP(G18*Basic!K8/100,0.99) -> 0 | I18: =ROUNDUP(G18*1.75%,0.99) -> 0 | J18: =H18+I18 -> 0 | K18: =G18-J18 -> 0 | L18: =ROUNDUP(G18*25/300,0.99) -> 0
A19: =Basic!C27 -> N | G19: =(Basic!P27)*(ATTENDANCE!J19)/(Basic!G33) -> 0 | H19: =ROUNDUP(G19*Basic!K8/100,0.99) -> 0 | I19: =ROUNDUP(G19*1.75%,0.99) -> 0 | J19: =H19+I19 -> 0 | K19: =G19-J19 -> 0 | L19: =ROUNDUP(G19*25/300,0.99) -> 0
A20: =Basic!C28 -> O | G20: =(Basic!P28)*(ATTENDANCE!J20)/(Basic!G33) -> 0 | H20: =ROUNDUP(G20*Basic!K8/100,0.99) -> 0 | I20: =ROUNDUP(G20*1.75%,0.99) -> 0 | J20: =H20+I20 -> 0 | K20: =G20-J20 -> 0 | L20: =ROUNDUP(G20*25/300,0.99) -> 0
F22: TOTAL | G22: =SUM(G6:G21) -> 10000 | H22: =SUM(H6:H21) -> 1200 | I22: =SUM(I6:I21) -> 175 | J22: =SUM(J6:J21) -> 1375 | K22: =SUM(K6:K21) -> 8625 | L22: =SUM(L6:L21) -> 834
F23: Employer's E.S.I Contribution | I23: =ROUNDUP(G22*4.75%,0.99) -> 475
F24: Total E.S.I Contribution | I24: =SUM(I22:I23) -> 650
F32: Calculation of Administration & ESILS Contribution
H33: A/C No. 1 | I33: A/C No.2 | J33: A/C No.10 | K33: A/C No.21 | L33: A/C No.22 | M33: Total
F35: Eers' Contribution | H35: =H36-J35 -> 366 | J35: =L22 -> 834 | K35: =ROUNDUP(G22*0.5%,0.99) -> 50 | M35: =SUM(H35:L35) -> 1250
F36: Eees' Contribution | H36: =H22 -> 1200 | K36: 0 | M36: =SUM(H36:L36) -> 1200
F37: Adm Charges | I37: =ROUNDUP(G22*1.1%,0.99) -> 110 | L37: =ROUNDUP(G22*0.01%,0.99) -> 1 | M37: =SUM(H37:L37) -> 111
H40: =SUM(H35:H39) -> 1566 | I40: =SUM(I35:I39) -> 110 | J40: =SUM(J35:J39) -> 834 | K40: =SUM(K35:K39) -> 50 | L40: TOTAL | M40: =SUM(M35:M37) -> 2561
B45: Main Page
B46: Result Page

Sheet 05
A1: =Basic!D3 -> # Firm Name
A2: =Basic!B5 -> 123, ABC Street, INDIA
I3: MAY | J3: =Basic!D11 -> 2009
G5: Salary Payable | H5: Provident fund | I5: E.S.I Employee Contribution | J5: Total Deduction | K5: Net Salary | L5: E.P.F
A6: =Basic!C14 -> A | G6: =(Basic!R14)*(ATTENDANCE!K6)/(Basic!G34) -> 0 | H6: =ROUNDUP(G6*Basic!K8/100,0.99) -> 0 | I6: =ROUNDUP(G6*1.75%,0.99) -> 0 | J6: =H6+I6 -> 0 | K6: =G6-J6 -> 0 | L6: =ROUNDUP(G6*25/300,0.99) -> 0
A7: =Basic!C15 -> B | G7: =(Basic!R15)*(ATTENDANCE!K7)/(Basic!G34) -> 0 | H7: =ROUNDUP(G7*Basic!K8/100,0.99) -> 0 | I7: =ROUNDUP(G7*1.75%,0.99) -> 0 | J7: =H7+I7 -> 0 | K7: =G7-J7 -> 0 | L7: =ROUNDUP(G7*25/300,0.99) -> 0
A8: =Basic!C16 -> C | G8: =(Basic!R16)*(ATTENDANCE!K8)/(Basic!G34) -> 0 | H8: =ROUNDUP(G8*Basic!K8/100,0.99) -> 0 | I8: =ROUNDUP(G8*1.75%,0.99) -> 0 | J8: =H8+I8 -> 0 | K8: =G8-J8 -> 0 | L8: =ROUNDUP(G8*25/300,0.99) -> 0
A9: =Basic!C17 -> D | G9: =(Basic!R17)*(ATTENDANCE!K9)/(Basic!G34) -> 0 | H9: =ROUNDUP(G9*Basic!K8/100,0.99) -> 0 | I9: =ROUNDUP(G9*1.75%,0.99) -> 0 | J9: =H9+I9 -> 0 | K9: =G9-J9 -> 0 | L9: =ROUNDUP(G9*25/300,0.99) -> 0
A10: =Basic!C18 -> E | G10: =(Basic!R18)*(ATTENDANCE!K10)/(Basic!G34) -> 0 | H10: =ROUNDUP(G10*Basic!K8/100,0.99) -> 0 | I10: =ROUNDUP(G10*1.75%,0.99) -> 0 | J10: =H10+I10 -> 0 | K10: =G10-J10 -> 0 | L10: =ROUNDUP(G10*25/300,0.99) -> 0
A11: =Basic!C19 -> F | G11: =(Basic!R19)*(ATTENDANCE!K11)/(Basic!G34) -> 0 | H11: =ROUNDUP(G11*Basic!K8/100,0.99) -> 0 | I11: =ROUNDUP(G11*1.75%,0.99) -> 0 | J11: =H11+I11 -> 0 | K11: =G11-J11 -> 0 | L11: =ROUNDUP(G11*25/300,0.99) -> 0
A12: =Basic!C20 -> G | G12: =(Basic!R20)*(ATTENDANCE!K12)/(Basic!G34) -> 0 | H12: =ROUNDUP(G12*Basic!K8/100,0.99) -> 0 | I12: =ROUNDUP(G12*1.75%,0.99) -> 0 | J12: =H12+I12 -> 0 | K12: =G12-J12 -> 0 | L12: =ROUNDUP(G12*25/300,0.99) -> 0
A13: =Basic!C21 -> H | G13: =(Basic!R21)*(ATTENDANCE!K13)/(Basic!G34) -> 0 | H13: =ROUNDUP(G13*Basic!K8/100,0.99) -> 0 | I13: =ROUNDUP(G13*1.75%,0.99) -> 0 | J13: =H13+I13 -> 0 | K13: =G13-J13 -> 0 | L13: =ROUNDUP(G13*25/300,0.99) -> 0
A14: =Basic!C22 -> I | G14: =(Basic!R22)*(ATTENDANCE!K14)/(Basic!G34) -> 0 | H14: =ROUNDUP(G14*Basic!K8/100,0.99) -> 0 | I14: =ROUNDUP(G14*1.75%,0.99) -> 0 | J14: =H14+I14 -> 0 | K14: =G14-J14 -> 0 | L14: =ROUNDUP(G14*25/300,0.99) -> 0
A15: =Basic!C23 -> J | G15: =(Basic!R23)*(ATTENDANCE!K15)/(Basic!G34) -> 0 | H15: =ROUNDUP(G15*Basic!K8/100,0.99) -> 0 | I15: =ROUNDUP(G15*1.75%,0.99) -> 0 | J15: =H15+I15 -> 0 | K15: =G15-J15 -> 0 | L15: =ROUNDUP(G15*25/300,0.99) -> 0
A16: =Basic!C24 -> K | G16: =(Basic!R24)*(ATTENDANCE!K16)/(Basic!G34) -> 0 | H16: =ROUNDUP(G16*Basic!K8/100,0.99) -> 0 | I16: =ROUNDUP(G16*1.75%,0.99) -> 0 | J16: =H16+I16 -> 0 | K16: =G16-J16 -> 0 | L16: =ROUNDUP(G16*25/300,0.99) -> 0
A17: =Basic!C25 -> L | G17: =(Basic!R25)*(ATTENDANCE!K17)/(Basic!G34) -> 0 | H17: =ROUNDUP(G17*Basic!K8/100,0.99) -> 0 | I17: =ROUNDUP(G17*1.75%,0.99) -> 0 | J17: =H17+I17 -> 0 | K17: =G17-J17 -> 0 | L17: =ROUNDUP(G17*25/300,0.99) -> 0
A18: =Basic!C26 -> M | G18: =(Basic!R26)*(ATTENDANCE!K18)/(Basic!G34) -> 0 | H18: =ROUNDUP(G18*Basic!K8/100,0.99) -> 0 | I18: =ROUNDUP(G18*1.75%,0.99) -> 0 | J18: =H18+I18 -> 0 | K18: =G18-J18 -> 0 | L18: =ROUNDUP(G18*25/300,0.99) -> 0
A19: =Basic!C27 -> N | G19: =(Basic!R27)*(ATTENDANCE!K19)/(Basic!G34) -> 0 | H19: =ROUNDUP(G19*Basic!K8/100,0.99) -> 0 | I19: =ROUNDUP(G19*1.75%,0.99) -> 0 | J19: =H19+I19 -> 0 | K19: =G19-J19 -> 0 | L19: =ROUNDUP(G19*25/300,0.99) -> 0
A20: =Basic!C28 -> O | G20: =(Basic!R28)*(ATTENDANCE!K20)/(Basic!G34) -> 0 | H20: =ROUNDUP(G20*Basic!K8/100,0.99) -> 0 | I20: =ROUNDUP(G20*1.75%,0.99) -> 0 | J20: =H20+I20 -> 0 | K20: =G20-J20 -> 0 | L20: =ROUNDUP(G20*25/300,0.99) -> 0
F22: TOTAL | G22: =SUM(G6:G21) -> 0 | H22: =SUM(H6:H21) -> 0 | I22: =SUM(I6:I21) -> 0 | J22: =SUM(J6:J21) -> 0 | K22: =SUM(K6:K21) -> 0 | L22: =SUM(L6:L21) -> 0
F23: Employer's E.S.I Contribution | I23: =ROUNDUP(G22*4.75%,0.99) -> 0
F24: Total E.S.I Contribution | I24: =SUM(I22:I23) -> 0
F32: Calculation of Administration & ESILS Contribution
H33: A/C No. 1 | I33: A/C No.2 | J33: A/C No.10 | K33: A/C No.21 | L33: A/C No.22 | M33: Total
F35: Eers' Contribution | H35: =H36-J35 -> 0 | J35: =L22 -> 0 | K35: =ROUNDUP(G22*0.5%,0.99) -> 0 | M35: =SUM(H35:L35) -> 0
F36: Eees' Contribution | H36: =H22 -> 0 | K36: 0 | M36: =SUM(H36:L36) -> 0
F37: Adm Charges | I37: =ROUNDUP(G22*1.1%,0.99) -> 0 | L37: =ROUNDUP(G22*0.01%,0.99) -> 0 | M37: =SUM(H37:L37) -> 0
H40: =SUM(H35:H39) -> 0 | I40: =SUM(I35:I39) -> 0 | J40: =SUM(J35:J39) -> 0 | K40: =SUM(K35:K39) -> 0 | L40: TOTAL | M40: =SUM(M35:M37) -> 0
B45: Main Page
B46: Result Page

Sheet 06
A1: =Basic!D3 -> # Firm Name
A2: =Basic!B5 -> 123, ABC Street, INDIA
I3: JUNE | J3: =Basic!D11 -> 2009
G5: Salary Payable | H5: Provident fund | I5: E.S.I Employee Contribution | J5: Total Deduction | K5: Net Salary | L5: E.P.F
A6: =Basic!C14 -> A | G6: =(Basic!T14)*(ATTENDANCE!L6)/(Basic!G35) -> 0 | H6: =ROUNDUP(G6*Basic!K8/100,0.99) -> 0 | I6: =ROUNDUP(G6*1.75%,0.99) -> 0 | J6: =H6+I6 -> 0 | K6: =G6-J6 -> 0 | L6: =ROUNDUP(G6*25/300,0.99) -> 0
A7: =Basic!C15 -> B | G7: =(Basic!T15)*(ATTENDANCE!L7)/(Basic!G35) -> 0 | H7: =ROUNDUP(G7*Basic!K8/100,0.99) -> 0 | I7: =ROUNDUP(G7*1.75%,0.99) -> 0 | J7: =H7+I7 -> 0 | K7: =G7-J7 -> 0 | L7: =ROUNDUP(G7*25/300,0.99) -> 0
A8: =Basic!C16 -> C | G8: =(Basic!T16)*(ATTENDANCE!L8)/(Basic!G35) -> 0 | H8: =ROUNDUP(G8*Basic!K8/100,0.99) -> 0 | I8: =ROUNDUP(G8*1.75%,0.99) -> 0 | J8: =H8+I8 -> 0 | K8: =G8-J8 -> 0 | L8: =ROUNDUP(G8*25/300,0.99) -> 0
A9: =Basic!C17 -> D | G9: =(Basic!T17)*(ATTENDANCE!L9)/(Basic!G35) -> 0 | H9: =ROUNDUP(G9*Basic!K8/100,0.99) -> 0 | I9: =ROUNDUP(G9*1.75%,0.99) -> 0 | J9: =H9+I9 -> 0 | K9: =G9-J9 -> 0 | L9: =ROUNDUP(G9*25/300,0.99) -> 0
A10: =Basic!C18 -> E | G10: =(Basic!T18)*(ATTENDANCE!L10)/(Basic!G35) -> 0 | H10: =ROUNDUP(G10*Basic!K8/100,0.99) -> 0 | I10: =ROUNDUP(G10*1.75%,0.99) -> 0 | J10: =H10+I10 -> 0 | K10: =G10-J10 -> 0 | L10: =ROUNDUP(G10*25/300,0.99) -> 0
A11: =Basic!C19 -> F | G11: =(Basic!T19)*(ATTENDANCE!L11)/(Basic!G35) -> 0 | H11: =ROUNDUP(G11*Basic!K8/100,0.99) -> 0 | I11: =ROUNDUP(G11*1.75%,0.99) -> 0 | J11: =H11+I11 -> 0 | K11: =G11-J11 -> 0 | L11: =ROUNDUP(G11*25/300,0.99) -> 0
A12: =Basic!C20 -> G | G12: =(Basic!T20)*(ATTENDANCE!L12)/(Basic!G35) -> 0 | H12: =ROUNDUP(G12*Basic!K8/100,0.99) -> 0 | I12: =ROUNDUP(G12*1.75%,0.99) -> 0 | J12: =H12+I12 -> 0 | K12: =G12-J12 -> 0 | L12: =ROUNDUP(G12*25/300,0.99) -> 0
A13: =Basic!C21 -> H | G13: =(Basic!T21)*(ATTENDANCE!L13)/(Basic!G35) -> 0 | H13: =ROUNDUP(G13*Basic!K8/100,0.99) -> 0 | I13: =ROUNDUP(G13*1.75%,0.99) -> 0 | J13: =H13+I13 -> 0 | K13: =G13-J13 -> 0 | L13: =ROUNDUP(G13*25/300,0.99) -> 0
A14: =Basic!C22 -> I | G14: =(Basic!T22)*(ATTENDANCE!L14)/(Basic!G35) -> 0 | H14: =ROUNDUP(G14*Basic!K8/100,0.99) -> 0 | I14: =ROUNDUP(G14*1.75%,0.99) -> 0 | J14: =H14+I14 -> 0 | K14: =G14-J14 -> 0 | L14: =ROUNDUP(G14*25/300,0.99) -> 0
A15: =Basic!C23 -> J | G15: =(Basic!T23)*(ATTENDANCE!L15)/(Basic!G35) -> 0 | H15: =ROUNDUP(G15*Basic!K8/100,0.99) -> 0 | I15: =ROUNDUP(G15*1.75%,0.99) -> 0 | J15: =H15+I15 -> 0 | K15: =G15-J15 -> 0 | L15: =ROUNDUP(G15*25/300,0.99) -> 0
A16: =Basic!C24 -> K | G16: =(Basic!T24)*(ATTENDANCE!L16)/(Basic!G35) -> 0 | H16: =ROUNDUP(G16*Basic!K8/100,0.99) -> 0 | I16: =ROUNDUP(G16*1.75%,0.99) -> 0 | J16: =H16+I16 -> 0 | K16: =G16-J16 -> 0 | L16: =ROUNDUP(G16*25/300,0.99) -> 0
A17: =Basic!C25 -> L | G17: =(Basic!T25)*(ATTENDANCE!L17)/(Basic!G35) -> 0 | H17: =ROUNDUP(G17*Basic!K8/100,0.99) -> 0 | I17: =ROUNDUP(G17*1.75%,0.99) -> 0 | J17: =H17+I17 -> 0 | K17: =G17-J17 -> 0 | L17: =ROUNDUP(G17*25/300,0.99) -> 0
A18: =Basic!C26 -> M | G18: =(Basic!T26)*(ATTENDANCE!L18)/(Basic!G35) -> 0 | H18: =ROUNDUP(G18*Basic!K8/100,0.99) -> 0 | I18: =ROUNDUP(G18*1.75%,0.99) -> 0 | J18: =H18+I18 -> 0 | K18: =G18-J18 -> 0 | L18: =ROUNDUP(G18*25/300,0.99) -> 0
A19: =Basic!C27 -> N | G19: =(Basic!T27)*(ATTENDANCE!L19)/(Basic!G35) -> 0 | H19: =ROUNDUP(G19*Basic!K8/100,0.99) -> 0 | I19: =ROUNDUP(G19*1.75%,0.99) -> 0 | J19: =H19+I19 -> 0 | K19: =G19-J19 -> 0 | L19: =ROUNDUP(G19*25/300,0.99) -> 0
A20: =Basic!C28 -> O | G20: =(Basic!T28)*(ATTENDANCE!L20)/(Basic!G35) -> 0 | H20: =ROUNDUP(G20*Basic!K8/100,0.99) -> 0 | I20: =ROUNDUP(G20*1.75%,0.99) -> 0 | J20: =H20+I20 -> 0 | K20: =G20-J20 -> 0 | L20: =ROUNDUP(G20*25/300,0.99) -> 0
F22: TOTAL | G22: =SUM(G6:G21) -> 0 | H22: =SUM(H6:H21) -> 0 | I22: =SUM(I6:I21) -> 0 | J22: =SUM(J6:J21) -> 0 | K22: =SUM(K6:K21) -> 0 | L22: =SUM(L6:L21) -> 0
F23: Employer's E.S.I Contribution | I23: =ROUNDUP(G22*4.75%,0.99) -> 0
F24: Total E.S.I Contribution | I24: =SUM(I22:I23) -> 0
F32: Calculation of Administration & ESILS Contribution
H33: A/C No. 1 | I33: A/C No.2 | J33: A/C No.10 | K33: A/C No.21 | L33: A/C No.22 | M33: Total
F35: Eers' Contribution | H35: =H36-J35 -> 0 | J35: =L22 -> 0 | K35: =ROUNDUP(G22*0.5%,0.99) -> 0 | M35: =SUM(H35:L35) -> 0
F36: Eees' Contribution | H36: =H22 -> 0 | K36: 0 | M36: =SUM(H36:L36) -> 0
F37: Adm Charges | I37: =ROUNDUP(G22*1.1%,0.99) -> 0 | L37: =ROUNDUP(G22*0.01%,0.99) -> 0 | M37: =SUM(H37:L37) -> 0
H40: =SUM(H35:H39) -> 0 | I40: =SUM(I35:I39) -> 0 | J40: =SUM(J35:J39) -> 0 | K40: =SUM(K35:K39) -> 0 | L40: TOTAL | M40: =SUM(M35:M37) -> 0
B45: Main Page
B46: Result Page

Sheet 07
A1: =Basic!D3 -> # Firm Name
A2: =Basic!B5 -> 123, ABC Street, INDIA
I3: JULY | J3: =Basic!D11 -> 2009
G5: Salary Payable | H5: Provident fund | I5: E.S.I Employee Contribution | J5: Total Deduction | K5: Net Salary | L5: E.P.F
A6: =Basic!C14 -> A | G6: =(Basic!V14)*(ATTENDANCE!M6)/(Basic!G36) -> 0 | H6: =ROUNDUP(G6*Basic!K8/100,0.99) -> 0 | I6: =ROUNDUP(G6*1.75%,0.99) -> 0 | J6: =H6+I6 -> 0 | K6: =G6-J6 -> 0 | L6: =ROUNDUP(G6*25/300,0.99) -> 0
A7: =Basic!C15 -> B | G7: =(Basic!V15)*(ATTENDANCE!M7)/(Basic!G36) -> 0 | H7: =ROUNDUP(G7*Basic!K8/100,0.99) -> 0 | I7: =ROUNDUP(G7*1.75%,0.99) -> 0 | J7: =H7+I7 -> 0 | K7: =G7-J7 -> 0 | L7: =ROUNDUP(G7*25/300,0.99) -> 0
A8: =Basic!C16 -> C | G8: =(Basic!V16)*(ATTENDANCE!M8)/(Basic!G36) -> 0 | H8: =ROUNDUP(G8*Basic!K8/100,0.99) -> 0 | I8: =ROUNDUP(G8*1.75%,0.99) -> 0 | J8: =H8+I8 -> 0 | K8: =G8-J8 -> 0 | L8: =ROUNDUP(G8*25/300,0.99) -> 0
A9: =Basic!C17 -> D | G9: =(Basic!V17)*(ATTENDANCE!M9)/(Basic!G36) -> 0 | H9: =ROUNDUP(G9*Basic!K8/100,0.99) -> 0 | I9: =ROUNDUP(G9*1.75%,0.99) -> 0 | J9: =H9+I9 -> 0 | K9: =G9-J9 -> 0 | L9: =ROUNDUP(G9*25/300,0.99) -> 0
A10: =Basic!C18 -> E | G10: =(Basic!V18)*(ATTENDANCE!M10)/(Basic!G36) -> 0 | H10: =ROUNDUP(G10*Basic!K8/100,0.99) -> 0 | I10: =ROUNDUP(G10*1.75%,0.99) -> 0 | J10: =H10+I10 -> 0 | K10: =G10-J10 -> 0 | L10: =ROUNDUP(G10*25/300,0.99) -> 0
A11: =Basic!C19 -> F | G11: =(Basic!V19)*(ATTENDANCE!M11)/(Basic!G36) -> 0 | H11: =ROUNDUP(G11*Basic!K8/100,0.99) -> 0 | I11: =ROUNDUP(G11*1.75%,0.99) -> 0 | J11: =H11+I11 -> 0 | K11: =G11-J11 -> 0 | L11: =ROUNDUP(G11*25/300,0.99) -> 0
A12: =Basic!C20 -> G | G12: =(Basic!V20)*(ATTENDANCE!M12)/(Basic!G36) -> 0 | H12: =ROUNDUP(G12*Basic!K8/100,0.99) -> 0 | I12: =ROUNDUP(G12*1.75%,0.99) -> 0 | J12: =H12+I12 -> 0 | K12: =G12-J12 -> 0 | L12: =ROUNDUP(G12*25/300,0.99) -> 0
A13: =Basic!C21 -> H | G13: =(Basic!V21)*(ATTENDANCE!M13)/(Basic!G36) -> 0 | H13: =ROUNDUP(G13*Basic!K8/100,0.99) -> 0 | I13: =ROUNDUP(G13*1.75%,0.99) -> 0 | J13: =H13+I13 -> 0 | K13: =G13-J13 -> 0 | L13: =ROUNDUP(G13*25/300,0.99) -> 0
A14: =Basic!C22 -> I | G14: =(Basic!V22)*(ATTENDANCE!M14)/(Basic!G36) -> 0 | H14: =ROUNDUP(G14*Basic!K8/100,0.99) -> 0 | I14: =ROUNDUP(G14*1.75%,0.99) -> 0 | J14: =H14+I14 -> 0 | K14: =G14-J14 -> 0 | L14: =ROUNDUP(G14*25/300,0.99) -> 0
A15: =Basic!C23 -> J | G15: =(Basic!V23)*(ATTENDANCE!M15)/(Basic!G36) -> 0 | H15: =ROUNDUP(G15*Basic!K8/100,0.99) -> 0 | I15: =ROUNDUP(G15*1.75%,0.99) -> 0 | J15: =H15+I15 -> 0 | K15: =G15-J15 -> 0 | L15: =ROUNDUP(G15*25/300,0.99) -> 0
A16: =Basic!C24 -> K | G16: =(Basic!V24)*(ATTENDANCE!M16)/(Basic!G36) -> 0 | H16: =ROUNDUP(G16*Basic!K8/100,0.99) -> 0 | I16: =ROUNDUP(G16*1.75%,0.99) -> 0 | J16: =H16+I16 -> 0 | K16: =G16-J16 -> 0 | L16: =ROUNDUP(G16*25/300,0.99) -> 0
A17: =Basic!C25 -> L | G17: =(Basic!V25)*(ATTENDANCE!M17)/(Basic!G36) -> 0 | H17: =ROUNDUP(G17*Basic!K8/100,0.99) -> 0 | I17: =ROUNDUP(G17*1.75%,0.99) -> 0 | J17: =H17+I17 -> 0 | K17: =G17-J17 -> 0 | L17: =ROUNDUP(G17*25/300,0.99) -> 0
A18: =Basic!C26 -> M | G18: =(Basic!V26)*(ATTENDANCE!M18)/(Basic!G36) -> 0 | H18: =ROUNDUP(G18*Basic!K8/100,0.99) -> 0 | I18: =ROUNDUP(G18*1.75%,0.99) -> 0 | J18: =H18+I18 -> 0 | K18: =G18-J18 -> 0 | L18: =ROUNDUP(G18*25/300,0.99) -> 0
A19: =Basic!C27 -> N | G19: =(Basic!V27)*(ATTENDANCE!M19)/(Basic!G36) -> 0 | H19: =ROUNDUP(G19*Basic!K8/100,0.99) -> 0 | I19: =ROUNDUP(G19*1.75%,0.99) -> 0 | J19: =H19+I19 -> 0 | K19: =G19-J19 -> 0 | L19: =ROUNDUP(G19*25/300,0.99) -> 0
A20: =Basic!C28 -> O | G20: =(Basic!V28)*(ATTENDANCE!M20)/(Basic!G36) -> 0 | H20: =ROUNDUP(G20*Basic!K8/100,0.99) -> 0 | I20: =ROUNDUP(G20*1.75%,0.99) -> 0 | J20: =H20+I20 -> 0 | K20: =G20-J20 -> 0 | L20: =ROUNDUP(G20*25/300,0.99) -> 0
F22: TOTAL | G22: =SUM(G6:G21) -> 0 | H22: =SUM(H6:H21) -> 0 | I22: =SUM(I6:I21) -> 0 | J22: =SUM(J6:J21) -> 0 | K22: =SUM(K6:K21) -> 0 | L22: =SUM(L6:L21) -> 0
F23: Employer's E.S.I Contribution | I23: =ROUNDUP(G22*4.75%,0.99) -> 0
F24: Total E.S.I Contribution | I24: =SUM(I22:I23) -> 0
F32: Calculation of Administration & ESILS Contribution
H33: A/C No. 1 | I33: A/C No.2 | J33: A/C No.10 | K33: A/C No.21 | L33: A/C No.22 | M33: Total
F35: Eers' Contribution | H35: =H36-J35 -> 0 | J35: =L22 -> 0 | K35: =ROUNDUP(G22*0.5%,0.99) -> 0 | M35: =SUM(H35:L35) -> 0
F36: Eees' Contribution | H36: =H22 -> 0 | K36: 0 | M36: =SUM(H36:L36) -> 0
F37: Adm Charges | I37: =ROUNDUP(G22*1.1%,0.99) -> 0 | L37: =ROUNDUP(G22*0.01%,0.99) -> 0 | M37: =SUM(H37:L37) -> 0
H40: =SUM(H35:H39) -> 0 | I40: =SUM(I35:I39) -> 0 | J40: =SUM(J35:J39) -> 0 | K40: =SUM(K35:K39) -> 0 | L40: TOTAL | M40: =SUM(M35:M37) -> 0
B45: Main Page
B46: Result Page

Sheet 08
A1: =Basic!D3 -> # Firm Name
A2: =Basic!B5 -> 123, ABC Street, INDIA
I3: August | J3: =Basic!D11 -> 2009
G5: Salary Payable | H5: Provident fund | I5: E.S.I Employee Contribution | J5: Total Deduction | K5: Net Salary | L5: E.P.F
A6: =Basic!C14 -> A | G6: =(Basic!X14)*(ATTENDANCE!N6)/(Basic!G37) -> 0 | H6: =ROUNDUP(G6*Basic!K8/100,0.99) -> 0 | I6: =ROUNDUP(G6*1.75%,0.99) -> 0 | J6: =H6+I6 -> 0 | K6: =G6-J6 -> 0 | L6: =ROUNDUP(G6*25/300,0.99) -> 0
A7: =Basic!C15 -> B | G7: =(Basic!X15)*(ATTENDANCE!N7)/(Basic!G37) -> 0 | H7: =ROUNDUP(G7*Basic!K8/100,0.99) -> 0 | I7: =ROUNDUP(G7*1.75%,0.99) -> 0 | J7: =H7+I7 -> 0 | K7: =G7-J7 -> 0 | L7: =ROUNDUP(G7*25/300,0.99) -> 0
A8: =Basic!C16 -> C | G8: =(Basic!X16)*(ATTENDANCE!N8)/(Basic!G37) -> 0 | H8: =ROUNDUP(G8*Basic!K8/100,0.99) -> 0 | I8: =ROUNDUP(G8*1.75%,0.99) -> 0 | J8: =H8+I8 -> 0 | K8: =G8-J8 -> 0 | L8: =ROUNDUP(G8*25/300,0.99) -> 0
A9: =Basic!C17 -> D | G9: =(Basic!X17)*(ATTENDANCE!N9)/(Basic!G37) -> 0 | H9: =ROUNDUP(G9*Basic!K8/100,0.99) -> 0 | I9: =ROUNDUP(G9*1.75%,0.99) -> 0 | J9: =H9+I9 -> 0 | K9: =G9-J9 -> 0 | L9: =ROUNDUP(G9*25/300,0.99) -> 0
A10: =Basic!C18 -> E | G10: =(Basic!X18)*(ATTENDANCE!N10)/(Basic!G37) -> 0 | H10: =ROUNDUP(G10*Basic!K8/100,0.99) -> 0 | I10: =ROUNDUP(G10*1.75%,0.99) -> 0 | J10: =H10+I10 -> 0 | K10: =G10-J10 -> 0 | L10: =ROUNDUP(G10*25/300,0.99) -> 0
A11: =Basic!C19 -> F | G11: =(Basic!X19)*(ATTENDANCE!N11)/(Basic!G37) -> 0 | H11: =ROUNDUP(G11*Basic!K8/100,0.99) -> 0 | I11: =ROUNDUP(G11*1.75%,0.99) -> 0 | J11: =H11+I11 -> 0 | K11: =G11-J11 -> 0 | L11: =ROUNDUP(G11*25/300,0.99) -> 0
A12: =Basic!C20 -> G | G12: =(Basic!X20)*(ATTENDANCE!N12)/(Basic!G37) -> 0 | H12: =ROUNDUP(G12*Basic!K8/100,0.99) -> 0 | I12: =ROUNDUP(G12*1.75%,0.99) -> 0 | J12: =H12+I12 -> 0 | K12: =G12-J12 -> 0 | L12: =ROUNDUP(G12*25/300,0.99) -> 0
A13: =Basic!C21 -> H | G13: =(Basic!X21)*(ATTENDANCE!N13)/(Basic!G37) -> 0 | H13: =ROUNDUP(G13*Basic!K8/100,0.99) -> 0 | I13: =ROUNDUP(G13*1.75%,0.99) -> 0 | J13: =H13+I13 -> 0 | K13: =G13-J13 -> 0 | L13: =ROUNDUP(G13*25/300,0.99) -> 0
A14: =Basic!C22 -> I | G14: =(Basic!X22)*(ATTENDANCE!N14)/(Basic!G37) -> 0 | H14: =ROUNDUP(G14*Basic!K8/100,0.99) -> 0 | I14: =ROUNDUP(G14*1.75%,0.99) -> 0 | J14: =H14+I14 -> 0 | K14: =G14-J14 -> 0 | L14: =ROUNDUP(G14*25/300,0.99) -> 0
A15: =Basic!C23 -> J | G15: =(Basic!X23)*(ATTENDANCE!N15)/(Basic!G37) -> 0 | H15: =ROUNDUP(G15*Basic!K8/100,0.99) -> 0 | I15: =ROUNDUP(G15*1.75%,0.99) -> 0 | J15: =H15+I15 -> 0 | K15: =G15-J15 -> 0 | L15: =ROUNDUP(G15*25/300,0.99) -> 0
A16: =Basic!C24 -> K | G16: =(Basic!X24)*(ATTENDANCE!N16)/(Basic!G37) -> 0 | H16: =ROUNDUP(G16*Basic!K8/100,0.99) -> 0 | I16: =ROUNDUP(G16*1.75%,0.99) -> 0 | J16: =H16+I16 -> 0 | K16: =G16-J16 -> 0 | L16: =ROUNDUP(G16*25/300,0.99) -> 0
A17: =Basic!C25 -> L | G17: =(Basic!X25)*(ATTENDANCE!N17)/(Basic!G37) -> 0 | H17: =ROUNDUP(G17*Basic!K8/100,0.99) -> 0 | I17: =ROUNDUP(G17*1.75%,0.99) -> 0 | J17: =H17+I17 -> 0 | K17: =G17-J17 -> 0 | L17: =ROUNDUP(G17*25/300,0.99) -> 0
A18: =Basic!C26 -> M | G18: =(Basic!X26)*(ATTENDANCE!N18)/(Basic!G37) -> 0 | H18: =ROUNDUP(G18*Basic!K8/100,0.99) -> 0 | I18: =ROUNDUP(G18*1.75%,0.99) -> 0 | J18: =H18+I18 -> 0 | K18: =G18-J18 -> 0 | L18: =ROUNDUP(G18*25/300,0.99) -> 0
A19: =Basic!C27 -> N | G19: =(Basic!X27)*(ATTENDANCE!N19)/(Basic!G37) -> 0 | H19: =ROUNDUP(G19*Basic!K8/100,0.99) -> 0 | I19: =ROUNDUP(G19*1.75%,0.99) -> 0 | J19: =H19+I19 -> 0 | K19: =G19-J19 -> 0 | L19: =ROUNDUP(G19*25/300,0.99) -> 0
A20: =Basic!C28 -> O | G20: =(Basic!X28)*(ATTENDANCE!N20)/(Basic!G37) -> 0 | H20: =ROUNDUP(G20*Basic!K8/100,0.99) -> 0 | I20: =ROUNDUP(G20*1.75%,0.99) -> 0 | J20: =H20+I20 -> 0 | K20: =G20-J20 -> 0 | L20: =ROUNDUP(G20*25/300,0.99) -> 0
F22: TOTAL | G22: =SUM(G6:G21) -> 0 | H22: =SUM(H6:H21) -> 0 | I22: =SUM(I6:I21) -> 0 | J22: =SUM(J6:J21) -> 0 | K22: =SUM(K6:K21) -> 0 | L22: =SUM(L6:L21) -> 0
F23: Employer's E.S.I Contribution | I23: =ROUNDUP(G22*4.75%,0.99) -> 0
F24: Total E.S.I Contribution | I24: =SUM(I22:I23) -> 0
F32: Calculation of Administration & ESILS Contribution
H33: A/C No. 1 | I33: A/C No.2 | J33: A/C No.10 | K33: A/C No.21 | L33: A/C No.22 | M33: Total
F35: Eers' Contribution | H35: =H36-J35 -> 0 | J35: =L22 -> 0 | K35: =ROUNDUP(G22*0.5%,0.99) -> 0 | M35: =SUM(H35:L35) -> 0
F36: Eees' Contribution | H36: =H22 -> 0 | K36: 0 | M36: =SUM(H36:L36) -> 0
F37: Adm Charges | I37: =ROUNDUP(G22*1.1%,0.99) -> 0 | L37: =ROUNDUP(G22*0.01%,0.99) -> 0 | M37: =SUM(H37:L37) -> 0
H40: =SUM(H35:H39) -> 0 | I40: =SUM(I35:I39) -> 0 | J40: =SUM(J35:J39) -> 0 | K40: =SUM(K35:K39) -> 0 | L40: TOTAL | M40: =SUM(M35:M37) -> 0
B44: Main Page
B45: Result Page

Sheet 09
A1: =Basic!D3 -> # Firm Name
A2: =Basic!B5 -> 123, ABC Street, INDIA
I3: September | J3: =Basic!D11 -> 2009
G5: Salary Payable | H5: Provident fund | I5: E.S.I Employee Contribution | J5: Total Deduction | K5: Net Salary | L5: E.P.F
A6: =Basic!C14 -> A | G6: =(Basic!Z14)*(ATTENDANCE!O6)/(Basic!G38) -> 0 | H6: =ROUNDUP(G6*Basic!K8/100,0.99) -> 0 | I6: =ROUNDUP(G6*1.75%,0.99) -> 0 | J6: =H6+I6 -> 0 | K6: =G6-J6 -> 0 | L6: =ROUNDUP(G6*25/300,0.99) -> 0
A7: =Basic!C15 -> B | G7: =(Basic!Z15)*(ATTENDANCE!O7)/(Basic!G38) -> 0 | H7: =ROUNDUP(G7*Basic!K8/100,0.99) -> 0 | I7: =ROUNDUP(G7*1.75%,0.99) -> 0 | J7: =H7+I7 -> 0 | K7: =G7-J7 -> 0 | L7: =ROUNDUP(G7*25/300,0.99) -> 0
A8: =Basic!C16 -> C | G8: =(Basic!Z16)*(ATTENDANCE!O8)/(Basic!G38) -> 0 | H8: =ROUNDUP(G8*Basic!K8/100,0.99) -> 0 | I8: =ROUNDUP(G8*1.75%,0.99) -> 0 | J8: =H8+I8 -> 0 | K8: =G8-J8 -> 0 | L8: =ROUNDUP(G8*25/300,0.99) -> 0
A9: =Basic!C17 -> D | G9: =(Basic!Z17)*(ATTENDANCE!O9)/(Basic!G38) -> 0 | H9: =ROUNDUP(G9*Basic!K8/100,0.99) -> 0 | I9: =ROUNDUP(G9*1.75%,0.99) -> 0 | J9: =H9+I9 -> 0 | K9: =G9-J9 -> 0 | L9: =ROUNDUP(G9*25/300,0.99) -> 0
A10: =Basic!C18 -> E | G10: =(Basic!Z18)*(ATTENDANCE!O10)/(Basic!G38) -> 0 | H10: =ROUNDUP(G10*Basic!K8/100,0.99) -> 0 | I10: =ROUNDUP(G10*1.75%,0.99) -> 0 | J10: =H10+I10 -> 0 | K10: =G10-J10 -> 0 | L10: =ROUNDUP(G10*25/300,0.99) -> 0
A11: =Basic!C19 -> F | G11: =(Basic!Z19)*(ATTENDANCE!O11)/(Basic!G38) -> 0 | H11: =ROUNDUP(G11*Basic!K8/100,0.99) -> 0 | I11: =ROUNDUP(G11*1.75%,0.99) -> 0 | J11: =H11+I11 -> 0 | K11: =G11-J11 -> 0 | L11: =ROUNDUP(G11*25/300,0.99) -> 0
A12: =Basic!C20 -> G | G12: =(Basic!Z20)*(ATTENDANCE!O12)/(Basic!G38) -> 0 | H12: =ROUNDUP(G12*Basic!K8/100,0.99) -> 0 | I12: =ROUNDUP(G12*1.75%,0.99) -> 0 | J12: =H12+I12 -> 0 | K12: =G12-J12 -> 0 | L12: =ROUNDUP(G12*25/300,0.99) -> 0
A13: =Basic!C21 -> H | G13: =(Basic!Z21)*(ATTENDANCE!O13)/(Basic!G38) -> 0 | H13: =ROUNDUP(G13*Basic!K8/100,0.99) -> 0 | I13: =ROUNDUP(G13*1.75%,0.99) -> 0 | J13: =H13+I13 -> 0 | K13: =G13-J13 -> 0 | L13: =ROUNDUP(G13*25/300,0.99) -> 0
A14: =Basic!C22 -> I | G14: =(Basic!Z22)*(ATTENDANCE!O14)/(Basic!G38) -> 0 | H14: =ROUNDUP(G14*Basic!K8/100,0.99) -> 0 | I14: =ROUNDUP(G14*1.75%,0.99) -> 0 | J14: =H14+I14 -> 0 | K14: =G14-J14 -> 0 | L14: =ROUNDUP(G14*25/300,0.99) -> 0
A15: =Basic!C23 -> J | G15: =(Basic!Z23)*(ATTENDANCE!O15)/(Basic!G38) -> 0 | H15: =ROUNDUP(G15*Basic!K8/100,0.99) -> 0 | I15: =ROUNDUP(G15*1.75%,0.99) -> 0 | J15: =H15+I15 -> 0 | K15: =G15-J15 -> 0 | L15: =ROUNDUP(G15*25/300,0.99) -> 0
A16: =Basic!C24 -> K | G16: =(Basic!Z24)*(ATTENDANCE!O16)/(Basic!G38) -> 0 | H16: =ROUNDUP(G16*Basic!K8/100,0.99) -> 0 | I16: =ROUNDUP(G16*1.75%,0.99) -> 0 | J16: =H16+I16 -> 0 | K16: =G16-J16 -> 0 | L16: =ROUNDUP(G16*25/300,0.99) -> 0
A17: =Basic!C25 -> L | G17: =(Basic!Z25)*(ATTENDANCE!O17)/(Basic!G38) -> 0 | H17: =ROUNDUP(G17*Basic!K8/100,0.99) -> 0 | I17: =ROUNDUP(G17*1.75%,0.99) -> 0 | J17: =H17+I17 -> 0 | K17: =G17-J17 -> 0 | L17: =ROUNDUP(G17*25/300,0.99) -> 0
A18: =Basic!C26 -> M | G18: =(Basic!Z26)*(ATTENDANCE!O18)/(Basic!G38) -> 0 | H18: =ROUNDUP(G18*Basic!K8/100,0.99) -> 0 | I18: =ROUNDUP(G18*1.75%,0.99) -> 0 | J18: =H18+I18 -> 0 | K18: =G18-J18 -> 0 | L18: =ROUNDUP(G18*25/300,0.99) -> 0
A19: =Basic!C27 -> N | G19: =(Basic!Z27)*(ATTENDANCE!O19)/(Basic!G38) -> 0 | H19: =ROUNDUP(G19*Basic!K8/100,0.99) -> 0 | I19: =ROUNDUP(G19*1.75%,0.99) -> 0 | J19: =H19+I19 -> 0 | K19: =G19-J19 -> 0 | L19: =ROUNDUP(G19*25/300,0.99) -> 0
A20: =Basic!C28 -> O | G20: =(Basic!Z28)*(ATTENDANCE!O20)/(Basic!G38) -> 0 | H20: =ROUNDUP(G20*Basic!K8/100,0.99) -> 0 | I20: =ROUNDUP(G20*1.75%,0.99) -> 0 | J20: =H20+I20 -> 0 | K20: =G20-J20 -> 0 | L20: =ROUNDUP(G20*25/300,0.99) -> 0
F22: TOTAL | G22: =SUM(G6:G21) -> 0 | H22: =SUM(H6:H21) -> 0 | I22: =SUM(I6:I21) -> 0 | J22: =SUM(J6:J21) -> 0 | K22: =SUM(K6:K21) -> 0 | L22: =SUM(L6:L21) -> 0
F23: Employer's E.S.I Contribution | I23: =ROUNDUP(G22*4.75%,0.99) -> 0
F24: Total E.S.I Contribution | I24: =SUM(I22:I23) -> 0
F32: Calculation of Administration & ESILS Contribution
H33: A/C No. 1 | I33: A/C No.2 | J33: A/C No.10 | K33: A/C No.21 | L33: A/C No.22 | M33: Total
F35: Eers' Contribution | H35: =H36-J35 -> 0 | J35: =L22 -> 0 | K35: =ROUNDUP(G22*0.5%,0.99) -> 0 | M35: =SUM(H35:L35) -> 0
F36: Eees' Contribution | H36: =H22 -> 0 | K36: 0 | M36: =SUM(H36:L36) -> 0
F37: Adm Charges | I37: =ROUNDUP(G22*1.1%,0.99) -> 0 | L37: =ROUNDUP(G22*0.01%,0.99) -> 0 | M37: =SUM(H37:L37) -> 0
H40: =SUM(H35:H39) -> 0 | I40: =SUM(I35:I39) -> 0 | J40: =SUM(J35:J39) -> 0 | K40: =SUM(K35:K39) -> 0 | L40: TOTAL | M40: =SUM(M35:M37) -> 0
B44: Main Page
B45: Result Page

Sheet 10
A1: =Basic!D3 -> # Firm Name
A2: =Basic!B5 -> 123, ABC Street, INDIA
I3: October | J3: =Basic!D11 -> 2009
G5: Salary Payable | H5: Provident fund | I5: E.S.I Employee Contribution | J5: Total Deduction | K5: Net Salary | L5: E.P.F
A6: =Basic!C14 -> A | G6: =(Basic!AB14)*(ATTENDANCE!P6)/(Basic!G39) -> 0 | H6: =ROUNDUP(G6*Basic!K8/100,0.99) -> 0 | I6: =ROUNDUP(G6*1.75%,0.99) -> 0 | J6: =H6+I6 -> 0 | K6: =G6-J6 -> 0 | L6: =ROUNDUP(G6*25/300,0.99) -> 0
A7: =Basic!C15 -> B | G7: =(Basic!AB15)*(ATTENDANCE!P7)/(Basic!G39) -> 0 | H7: =ROUNDUP(G7*Basic!K8/100,0.99) -> 0 | I7: =ROUNDUP(G7*1.75%,0.99) -> 0 | J7: =H7+I7 -> 0 | K7: =G7-J7 -> 0 | L7: =ROUNDUP(G7*25/300,0.99) -> 0
A8: =Basic!C16 -> C | G8: =(Basic!AB16)*(ATTENDANCE!P8)/(Basic!G39) -> 0 | H8: =ROUNDUP(G8*Basic!K8/100,0.99) -> 0 | I8: =ROUNDUP(G8*1.75%,0.99) -> 0 | J8: =H8+I8 -> 0 | K8: =G8-J8 -> 0 | L8: =ROUNDUP(G8*25/300,0.99) -> 0
A9: =Basic!C17 -> D | G9: =(Basic!AB17)*(ATTENDANCE!P9)/(Basic!G39) -> 0 | H9: =ROUNDUP(G9*Basic!K8/100,0.99) -> 0 | I9: =ROUNDUP(G9*1.75%,0.99) -> 0 | J9: =H9+I9 -> 0 | K9: =G9-J9 -> 0 | L9: =ROUNDUP(G9*25/300,0.99) -> 0
A10: =Basic!C18 -> E | G10: =(Basic!AB18)*(ATTENDANCE!P10)/(Basic!G39) -> 0 | H10: =ROUNDUP(G10*Basic!K8/100,0.99) -> 0 | I10: =ROUNDUP(G10*1.75%,0.99) -> 0 | J10: =H10+I10 -> 0 | K10: =G10-J10 -> 0 | L10: =ROUNDUP(G10*25/300,0.99) -> 0
A11: =Basic!C19 -> F | G11: =(Basic!AB19)*(ATTENDANCE!P11)/(Basic!G39) -> 0 | H11: =ROUNDUP(G11*Basic!K8/100,0.99) -> 0 | I11: =ROUNDUP(G11*1.75%,0.99) -> 0 | J11: =H11+I11 -> 0 | K11: =G11-J11 -> 0 | L11: =ROUNDUP(G11*25/300,0.99) -> 0
A12: =Basic!C20 -> G | G12: =(Basic!AB20)*(ATTENDANCE!P12)/(Basic!G39) -> 0 | H12: =ROUNDUP(G12*Basic!K8/100,0.99) -> 0 | I12: =ROUNDUP(G12*1.75%,0.99) -> 0 | J12: =H12+I12 -> 0 | K12: =G12-J12 -> 0 | L12: =ROUNDUP(G12*25/300,0.99) -> 0
A13: =Basic!C21 -> H | G13: =(Basic!AB21)*(ATTENDANCE!P13)/(Basic!G39) -> 0 | H13: =ROUNDUP(G13*Basic!K8/100,0.99) -> 0 | I13: =ROUNDUP(G13*1.75%,0.99) -> 0 | J13: =H13+I13 -> 0 | K13: =G13-J13 -> 0 | L13: =ROUNDUP(G13*25/300,0.99) -> 0
A14: =Basic!C22 -> I | G14: =(Basic!AB22)*(ATTENDANCE!P14)/(Basic!G39) -> 0 | H14: =ROUNDUP(G14*Basic!K8/100,0.99) -> 0 | I14: =ROUNDUP(G14*1.75%,0.99) -> 0 | J14: =H14+I14 -> 0 | K14: =G14-J14 -> 0 | L14: =ROUNDUP(G14*25/300,0.99) -> 0
A15: =Basic!C23 -> J | G15: =(Basic!AB23)*(ATTENDANCE!P15)/(Basic!G39) -> 0 | H15: =ROUNDUP(G15*Basic!K8/100,0.99) -> 0 | I15: =ROUNDUP(G15*1.75%,0.99) -> 0 | J15: =H15+I15 -> 0 | K15: =G15-J15 -> 0 | L15: =ROUNDUP(G15*25/300,0.99) -> 0
A16: =Basic!C24 -> K | G16: =(Basic!AB24)*(ATTENDANCE!P16)/(Basic!G39) -> 0 | H16: =ROUNDUP(G16*Basic!K8/100,0.99) -> 0 | I16: =ROUNDUP(G16*1.75%,0.99) -> 0 | J16: =H16+I16 -> 0 | K16: =G16-J16 -> 0 | L16: =ROUNDUP(G16*25/300,0.99) -> 0
A17: =Basic!C25 -> L | G17: =(Basic!AB25)*(ATTENDANCE!P17)/(Basic!G39) -> 0 | H17: =ROUNDUP(G17*Basic!K8/100,0.99) -> 0 | I17: =ROUNDUP(G17*1.75%,0.99) -> 0 | J17: =H17+I17 -> 0 | K17: =G17-J17 -> 0 | L17: =ROUNDUP(G17*25/300,0.99) -> 0
A18: =Basic!C26 -> M | G18: =(Basic!AB26)*(ATTENDANCE!P18)/(Basic!G39) -> 0 | H18: =ROUNDUP(G18*Basic!K8/100,0.99) -> 0 | I18: =ROUNDUP(G18*1.75%,0.99) -> 0 | J18: =H18+I18 -> 0 | K18: =G18-J18 -> 0 | L18: =ROUNDUP(G18*25/300,0.99) -> 0
A19: =Basic!C27 -> N | G19: =(Basic!AB27)*(ATTENDANCE!P19)/(Basic!G39) -> 0 | H19: =ROUNDUP(G19*Basic!K8/100,0.99) -> 0 | I19: =ROUNDUP(G19*1.75%,0.99) -> 0 | J19: =H19+I19 -> 0 | K19: =G19-J19 -> 0 | L19: =ROUNDUP(G19*25/300,0.99) -> 0
A20: =Basic!C28 -> O | G20: =(Basic!AB28)*(ATTENDANCE!P20)/(Basic!G39) -> 0 | H20: =ROUNDUP(G20*Basic!K8/100,0.99) -> 0 | I20: =ROUNDUP(G20*1.75%,0.99) -> 0 | J20: =H20+I20 -> 0 | K20: =G20-J20 -> 0 | L20: =ROUNDUP(G20*25/300,0.99) -> 0
F22: TOTAL | G22: =SUM(G6:G21) -> 0 | H22: =SUM(H6:H21) -> 0 | I22: =SUM(I6:I21) -> 0 | J22: =SUM(J6:J21) -> 0 | K22: =SUM(K6:K21) -> 0 | L22: =SUM(L6:L21) -> 0
F23: Employer's E.S.I Contribution | I23: =ROUNDUP(G22*4.75%,0.99) -> 0
F24: Total E.S.I Contribution | I24: =SUM(I22:I23) -> 0
F32: Calculation of Administration & ESILS Contribution
H33: A/C No. 1 | I33: A/C No.2 | J33: A/C No.10 | K33: A/C No.21 | L33: A/C No.22 | M33: Total
F35: Eers' Contribution | H35: =H36-J35 -> 0 | J35: =L22 -> 0 | K35: =ROUNDUP(G22*0.5%,0.99) -> 0 | M35: =SUM(H35:L35) -> 0
F36: Eees' Contribution | H36: =H22 -> 0 | K36: 0 | M36: =SUM(H36:L36) -> 0
F37: Adm Charges | I37: =ROUNDUP(G22*1.1%,0.99) -> 0 | L37: =ROUNDUP(G22*0.01%,0.99) -> 0 | M37: =SUM(H37:L37) -> 0
H40: =SUM(H35:H39) -> 0 | I40: =SUM(I35:I39) -> 0 | J40: =SUM(J35:J39) -> 0 | K40: =SUM(K35:K39) -> 0 | L40: TOTAL | M40: =SUM(M35:M37) -> 0
B45: Main Page
B46: Result Page

Sheet 11
A1: =Basic!D3 -> # Firm Name
A2: =Basic!B5 -> 123, ABC Street, INDIA
I3: November | J3: =Basic!D11 -> 2009
G5: Salary Payable | H5: Provident fund | I5: E.S.I Employee Contribution | J5: Total Deduction | K5: Net Salary | L5: E.P.F
A6: =Basic!C14 -> A | G6: =(Basic!AD14)*(ATTENDANCE!Q6)/(Basic!G40) -> 0 | H6: =ROUNDUP(G6*Basic!K8/100,0.99) -> 0 | I6: =ROUNDUP(G6*1.75%,0.99) -> 0 | J6: =H6+I6 -> 0 | K6: =G6-J6 -> 0 | L6: =ROUNDUP(G6*25/300,0.99) -> 0
A7: =Basic!C15 -> B | G7: =(Basic!AD15)*(ATTENDANCE!Q7)/(Basic!G40) -> 0 | H7: =ROUNDUP(G7*Basic!K8/100,0.99) -> 0 | I7: =ROUNDUP(G7*1.75%,0.99) -> 0 | J7: =H7+I7 -> 0 | K7: =G7-J7 -> 0 | L7: =ROUNDUP(G7*25/300,0.99) -> 0
A8: =Basic!C16 -> C | G8: =(Basic!AD16)*(ATTENDANCE!Q8)/(Basic!G40) -> 0 | H8: =ROUNDUP(G8*Basic!K8/100,0.99) -> 0 | I8: =ROUNDUP(G8*1.75%,0.99) -> 0 | J8: =H8+I8 -> 0 | K8: =G8-J8 -> 0 | L8: =ROUNDUP(G8*25/300,0.99) -> 0
A9: =Basic!C17 -> D | G9: =(Basic!AD17)*(ATTENDANCE!Q9)/(Basic!G40) -> 0 | H9: =ROUNDUP(G9*Basic!K8/100,0.99) -> 0 | I9: =ROUNDUP(G9*1.75%,0.99) -> 0 | J9: =H9+I9 -> 0 | K9: =G9-J9 -> 0 | L9: =ROUNDUP(G9*25/300,0.99) -> 0
A10: =Basic!C18 -> E | G10: =(Basic!AD18)*(ATTENDANCE!Q10)/(Basic!G40) -> 0 | H10: =ROUNDUP(G10*Basic!K8/100,0.99) -> 0 | I10: =ROUNDUP(G10*1.75%,0.99) -> 0 | J10: =H10+I10 -> 0 | K10: =G10-J10 -> 0 | L10: =ROUNDUP(G10*25/300,0.99) -> 0
A11: =Basic!C19 -> F | G11: =(Basic!AD19)*(ATTENDANCE!Q11)/(Basic!G40) -> 0 | H11: =ROUNDUP(G11*Basic!K8/100,0.99) -> 0 | I11: =ROUNDUP(G11*1.75%,0.99) -> 0 | J11: =H11+I11 -> 0 | K11: =G11-J11 -> 0 | L11: =ROUNDUP(G11*25/300,0.99) -> 0
A12: =Basic!C20 -> G | G12: =(Basic!AD20)*(ATTENDANCE!Q12)/(Basic!G40) -> 0 | H12: =ROUNDUP(G12*Basic!K8/100,0.99) -> 0 | I12: =ROUNDUP(G12*1.75%,0.99) -> 0 | J12: =H12+I12 -> 0 | K12: =G12-J12 -> 0 | L12: =ROUNDUP(G12*25/300,0.99) -> 0
A13: =Basic!C21 -> H | G13: =(Basic!AD21)*(ATTENDANCE!Q13)/(Basic!G40) -> 0 | H13: =ROUNDUP(G13*Basic!K8/100,0.99) -> 0 | I13: =ROUNDUP(G13*1.75%,0.99) -> 0 | J13: =H13+I13 -> 0 | K13: =G13-J13 -> 0 | L13: =ROUNDUP(G13*25/300,0.99) -> 0
A14: =Basic!C22 -> I | G14: =(Basic!AD22)*(ATTENDANCE!Q14)/(Basic!G40) -> 0 | H14: =ROUNDUP(G14*Basic!K8/100,0.99) -> 0 | I14: =ROUNDUP(G14*1.75%,0.99) -> 0 | J14: =H14+I14 -> 0 | K14: =G14-J14 -> 0 | L14: =ROUNDUP(G14*25/300,0.99) -> 0
A15: =Basic!C23 -> J | G15: =(Basic!AD23)*(ATTENDANCE!Q15)/(Basic!G40) -> 0 | H15: =ROUNDUP(G15*Basic!K8/100,0.99) -> 0 | I15: =ROUNDUP(G15*1.75%,0.99) -> 0 | J15: =H15+I15 -> 0 | K15: =G15-J15 -> 0 | L15: =ROUNDUP(G15*25/300,0.99) -> 0
A16: =Basic!C24 -> K | G16: =(Basic!AD24)*(ATTENDANCE!Q16)/(Basic!G40) -> 0 | H16: =ROUNDUP(G16*Basic!K8/100,0.99) -> 0 | I16: =ROUNDUP(G16*1.75%,0.99) -> 0 | J16: =H16+I16 -> 0 | K16: =G16-J16 -> 0 | L16: =ROUNDUP(G16*25/300,0.99) -> 0
A17: =Basic!C25 -> L | G17: =(Basic!AD25)*(ATTENDANCE!Q17)/(Basic!G40) -> 0 | H17: =ROUNDUP(G17*Basic!K8/100,0.99) -> 0 | I17: =ROUNDUP(G17*1.75%,0.99) -> 0 | J17: =H17+I17 -> 0 | K17: =G17-J17 -> 0 | L17: =ROUNDUP(G17*25/300,0.99) -> 0
A18: =Basic!C26 -> M | G18: =(Basic!AD26)*(ATTENDANCE!Q18)/(Basic!G40) -> 0 | H18: =ROUNDUP(G18*Basic!K8/100,0.99) -> 0 | I18: =ROUNDUP(G18*1.75%,0.99) -> 0 | J18: =H18+I18 -> 0 | K18: =G18-J18 -> 0 | L18: =ROUNDUP(G18*25/300,0.99) -> 0
A19: =Basic!C27 -> N | G19: =(Basic!AD27)*(ATTENDANCE!Q19)/(Basic!G40) -> 0 | H19: =ROUNDUP(G19*Basic!K8/100,0.99) -> 0 | I19: =ROUNDUP(G19*1.75%,0.99) -> 0 | J19: =H19+I19 -> 0 | K19: =G19-J19 -> 0 | L19: =ROUNDUP(G19*25/300,0.99) -> 0
A20: =Basic!C28 -> O | G20: =(Basic!AD28)*(ATTENDANCE!Q20)/(Basic!G40) -> 0 | H20: =ROUNDUP(G20*Basic!K8/100,0.99) -> 0 | I20: =ROUNDUP(G20*1.75%,0.99) -> 0 | J20: =H20+I20 -> 0 | K20: =G20-J20 -> 0 | L20: =ROUNDUP(G20*25/300,0.99) -> 0
F22: TOTAL | G22: =SUM(G6:G21) -> 0 | H22: =SUM(H6:H21) -> 0 | I22: =SUM(I6:I21) -> 0 | J22: =SUM(J6:J21) -> 0 | K22: =SUM(K6:K21) -> 0 | L22: =SUM(L6:L21) -> 0
F23: Employer's E.S.I Contribution | I23: =ROUNDUP(G22*4.75%,0.99) -> 0
F24: Total E.S.I Contribution | I24: =SUM(I22:I23) -> 0
F32: Calculation of Administration & ESILS Contribution
H33: A/C No. 1 | I33: A/C No.2 | J33: A/C No.10 | K33: A/C No.21 | L33: A/C No.22 | M33: Total
F35: Eers' Contribution | H35: =H36-J35 -> 0 | J35: =L22 -> 0 | K35: =ROUNDUP(G22*0.5%,0.99) -> 0 | M35: =SUM(H35:L35) -> 0
F36: Eees' Contribution | H36: =H22 -> 0 | K36: 0 | M36: =SUM(H36:L36) -> 0
F37: Adm Charges | I37: =ROUNDUP(G22*1.1%,0.99) -> 0 | L37: =ROUNDUP(G22*0.01%,0.99) -> 0 | M37: =SUM(H37:L37) -> 0
H40: =SUM(H35:H39) -> 0 | I40: =SUM(I35:I39) -> 0 | J40: =SUM(J35:J39) -> 0 | K40: =SUM(K35:K39) -> 0 | L40: TOTAL | M40: =SUM(M35:M37) -> 0
B44: Main Page
B45: Result Page

Sheet 12
A1: =Basic!D3 -> # Firm Name
A2: =Basic!B5 -> 123, ABC Street, INDIA
I3: December | J3: =Basic!D11 -> 2009
G5: Salary Payable | H5: Provident fund | I5: E.S.I Employee Contribution | J5: Total Deduction | K5: Net Salary | L5: E.P.F
A6: =Basic!C14 -> A | G6: =(Basic!AF14)*(ATTENDANCE!R6)/(Basic!G41) -> 0 | H6: =ROUNDUP(G6*Basic!K8/100,0.99) -> 0 | I6: =ROUNDUP(G6*1.75%,0.99) -> 0 | J6: =H6+I6 -> 0 | K6: =G6-J6 -> 0 | L6: =ROUNDUP(G6*25/300,0.99) -> 0
A7: =Basic!C15 -> B | G7: =(Basic!AF15)*(ATTENDANCE!R7)/(Basic!G41) -> 0 | H7: =ROUNDUP(G7*Basic!K8/100,0.99) -> 0 | I7: =ROUNDUP(G7*1.75%,0.99) -> 0 | J7: =H7+I7 -> 0 | K7: =G7-J7 -> 0 | L7: =ROUNDUP(G7*25/300,0.99) -> 0
A8: =Basic!C16 -> C | G8: =(Basic!AF16)*(ATTENDANCE!R8)/(Basic!G41) -> 0 | H8: =ROUNDUP(G8*Basic!K8/100,0.99) -> 0 | I8: =ROUNDUP(G8*1.75%,0.99) -> 0 | J8: =H8+I8 -> 0 | K8: =G8-J8 -> 0 | L8: =ROUNDUP(G8*25/300,0.99) -> 0
A9: =Basic!C17 -> D | G9: =(Basic!AF17)*(ATTENDANCE!R9)/(Basic!G41) -> 0 | H9: =ROUNDUP(G9*Basic!K8/100,0.99) -> 0 | I9: =ROUNDUP(G9*1.75%,0.99) -> 0 | J9: =H9+I9 -> 0 | K9: =G9-J9 -> 0 | L9: =ROUNDUP(G9*25/300,0.99) -> 0
A10: =Basic!C18 -> E | G10: =(Basic!AF18)*(ATTENDANCE!R10)/(Basic!G41) -> 0 | H10: =ROUNDUP(G10*Basic!K8/100,0.99) -> 0 | I10: =ROUNDUP(G10*1.75%,0.99) -> 0 | J10: =H10+I10 -> 0 | K10: =G10-J10 -> 0 | L10: =ROUNDUP(G10*25/300,0.99) -> 0
A11: =Basic!C19 -> F | G11: =(Basic!AF19)*(ATTENDANCE!R11)/(Basic!G41) -> 0 | H11: =ROUNDUP(G11*Basic!K8/100,0.99) -> 0 | I11: =ROUNDUP(G11*1.75%,0.99) -> 0 | J11: =H11+I11 -> 0 | K11: =G11-J11 -> 0 | L11: =ROUNDUP(G11*25/300,0.99) -> 0
A12: =Basic!C20 -> G | G12: =(Basic!AF20)*(ATTENDANCE!R12)/(Basic!G41) -> 0 | H12: =ROUNDUP(G12*Basic!K8/100,0.99) -> 0 | I12: =ROUNDUP(G12*1.75%,0.99) -> 0 | J12: =H12+I12 -> 0 | K12: =G12-J12 -> 0 | L12: =ROUNDUP(G12*25/300,0.99) -> 0
A13: =Basic!C21 -> H | G13: =(Basic!AF21)*(ATTENDANCE!R13)/(Basic!G41) -> 0 | H13: =ROUNDUP(G13*Basic!K8/100,0.99) -> 0 | I13: =ROUNDUP(G13*1.75%,0.99) -> 0 | J13: =H13+I13 -> 0 | K13: =G13-J13 -> 0 | L13: =ROUNDUP(G13*25/300,0.99) -> 0
A14: =Basic!C22 -> I | G14: =(Basic!AF22)*(ATTENDANCE!R14)/(Basic!G41) -> 0 | H14: =ROUNDUP(G14*Basic!K8/100,0.99) -> 0 | I14: =ROUNDUP(G14*1.75%,0.99) -> 0 | J14: =H14+I14 -> 0 | K14: =G14-J14 -> 0 | L14: =ROUNDUP(G14*25/300,0.99) -> 0
A15: =Basic!C23 -> J | G15: =(Basic!AF23)*(ATTENDANCE!R15)/(Basic!G41) -> 0 | H15: =ROUNDUP(G15*Basic!K8/100,0.99) -> 0 | I15: =ROUNDUP(G15*1.75%,0.99) -> 0 | J15: =H15+I15 -> 0 | K15: =G15-J15 -> 0 | L15: =ROUNDUP(G15*25/300,0.99) -> 0
A16: =Basic!C24 -> K | G16: =(Basic!AF24)*(ATTENDANCE!R16)/(Basic!G11) -> 0 | H16: =ROUNDUP(G16*Basic!K8/100,0.99) -> 0 | I16: =ROUNDUP(G16*1.75%,0.99) -> 0 | J16: =H16+I16 -> 0 | K16: =G16-J16 -> 0 | L16: =ROUNDUP(G16*25/300,0.99) -> 0
A17: =Basic!C25 -> L | G17: =(Basic!AF25)*(ATTENDANCE!R17)/(Basic!G41) -> 0 | H17: =ROUNDUP(G17*Basic!K8/100,0.99) -> 0 | I17: =ROUNDUP(G17*1.75%,0.99) -> 0 | J17: =H17+I17 -> 0 | K17: =G17-J17 -> 0 | L17: =ROUNDUP(G17*25/300,0.99) -> 0
A18: =Basic!C26 -> M | G18: =(Basic!AF26)*(ATTENDANCE!R18)/(Basic!G41) -> 0 | H18: =ROUNDUP(G18*Basic!K8/100,0.99) -> 0 | I18: =ROUNDUP(G18*1.75%,0.99) -> 0 | J18: =H18+I18 -> 0 | K18: =G18-J18 -> 0 | L18: =ROUNDUP(G18*25/300,0.99) -> 0
A19: =Basic!C27 -> N | G19: =(Basic!AF27)*(ATTENDANCE!R19)/(Basic!G41) -> 0 | H19: =ROUNDUP(G19*Basic!K8/100,0.99) -> 0 | I19: =ROUNDUP(G19*1.75%,0.99) -> 0 | J19: =H19+I19 -> 0 | K19: =G19-J19 -> 0 | L19: =ROUNDUP(G19*25/300,0.99) -> 0
A20: =Basic!C28 -> O | G20: =(Basic!AF28)*(ATTENDANCE!R20)/(Basic!G41) -> 0 | H20: =ROUNDUP(G20*Basic!K8/100,0.99) -> 0 | I20: =ROUNDUP(G20*1.75%,0.99) -> 0 | J20: =H20+I20 -> 0 | K20: =G20-J20 -> 0 | L20: =ROUNDUP(G20*25/300,0.99) -> 0
F22: TOTAL | G22: =SUM(G6:G21) -> 0 | H22: =SUM(H6:H21) -> 0 | I22: =SUM(I6:I21) -> 0 | J22: =SUM(J6:J21) -> 0 | K22: =SUM(K6:K21) -> 0 | L22: =SUM(L6:L21) -> 0
F23: Employer's E.S.I Contribution | I23: =ROUNDUP(G22*4.75%,0.99) -> 0
F24: Total E.S.I Contribution | I24: =SUM(I22:I23) -> 0
F32: Calculation of Administration & ESILS Contribution
H33: A/C No. 1 | I33: A/C No.2 | J33: A/C No.10 | K33: A/C No.21 | L33: A/C No.22 | M33: Total
F35: Eers' Contribution | H35: =H36-J35 -> 0 | J35: =L22 -> 0 | K35: =ROUNDUP(G22*0.5%,0.99) -> 0 | M35: =SUM(H35:L35) -> 0
F36: Eees' Contribution | H36: =H22 -> 0 | K36: 0 | M36: =SUM(H36:L36) -> 0
F37: Adm Charges | I37: =ROUNDUP(G22*1.1%,0.99) -> 0 | L37: =ROUNDUP(G22*0.01%,0.99) -> 0 | M37: =SUM(H37:L37) -> 0
H40: =SUM(H35:H39) -> 0 | I40: =SUM(I35:I39) -> 0 | J40: =SUM(J35:J39) -> 0 | K40: =SUM(K35:K39) -> 0 | L40: TOTAL | M40: =SUM(M35:M37) -> 0
B44: Main Page
B45: Result Page

Sheet 01
A1: =Basic!D3 -> # Firm Name
A2: =Basic!B5 -> 123, ABC Street, INDIA
I3: January | J3: =Basic!G11 -> 2010
G5: Salary Payable | H5: Provident fund | I5: E.S.I Employee Contribution | J5: Total Deduction | K5: Net Salary | L5: E.P.F
A6: =Basic!C14 -> A | G6: =(Basic!AH14)*(ATTENDANCE!S6)/(Basic!G42) -> 0 | H6: =ROUNDUP(G6*Basic!K8/100,0.99) -> 0 | I6: =ROUNDUP(G6*1.75%,0.99) -> 0 | J6: =H6+I6 -> 0 | K6: =G6-J6 -> 0 | L6: =ROUNDUP(G6*25/300,0.99) -> 0
A7: =Basic!C15 -> B | G7: =(Basic!AH15)*(ATTENDANCE!S7)/(Basic!G42) -> 0 | H7: =ROUNDUP(G7*Basic!K8/100,0.99) -> 0 | I7: =ROUNDUP(G7*1.75%,0.99) -> 0 | J7: =H7+I7 -> 0 | K7: =G7-J7 -> 0 | L7: =ROUNDUP(G7*25/300,0.99) -> 0
A8: =Basic!C16 -> C | G8: =(Basic!AH16)*(ATTENDANCE!S8)/(Basic!G42) -> 0 | H8: =ROUNDUP(G8*Basic!K8/100,0.99) -> 0 | I8: =ROUNDUP(G8*1.75%,0.99) -> 0 | J8: =H8+I8 -> 0 | K8: =G8-J8 -> 0 | L8: =ROUNDUP(G8*25/300,0.99) -> 0
A9: =Basic!C17 -> D | G9: =(Basic!AH17)*(ATTENDANCE!S9)/(Basic!G42) -> 0 | H9: =ROUNDUP(G9*Basic!K8/100,0.99) -> 0 | I9: =ROUNDUP(G9*1.75%,0.99) -> 0 | J9: =H9+I9 -> 0 | K9: =G9-J9 -> 0 | L9: =ROUNDUP(G9*25/300,0.99) -> 0
A10: =Basic!C18 -> E | G10: =(Basic!AH18)*(ATTENDANCE!S10)/(Basic!G42) -> 0 | H10: =ROUNDUP(G10*Basic!K8/100,0.99) -> 0 | I10: =ROUNDUP(G10*1.75%,0.99) -> 0 | J10: =H10+I10 -> 0 | K10: =G10-J10 -> 0 | L10: =ROUNDUP(G10*25/300,0.99) -> 0
A11: =Basic!C19 -> F | G11: =(Basic!AH19)*(ATTENDANCE!S11)/(Basic!G42) -> 0 | H11: =ROUNDUP(G11*Basic!K8/100,0.99) -> 0 | I11: =ROUNDUP(G11*1.75%,0.99) -> 0 | J11: =H11+I11 -> 0 | K11: =G11-J11 -> 0 | L11: =ROUNDUP(G11*25/300,0.99) -> 0
A12: =Basic!C20 -> G | G12: =(Basic!AH20)*(ATTENDANCE!S12)/(Basic!G42) -> 0 | H12: =ROUNDUP(G12*Basic!K8/100,0.99) -> 0 | I12: =ROUNDUP(G12*1.75%,0.99) -> 0 | J12: =H12+I12 -> 0 | K12: =G12-J12 -> 0 | L12: =ROUNDUP(G12*25/300,0.99) -> 0
A13: =Basic!C21 -> H | G13: =(Basic!AH21)*(ATTENDANCE!S13)/(Basic!G42) -> 0 | H13: =ROUNDUP(G13*Basic!K8/100,0.99) -> 0 | I13: =ROUNDUP(G13*1.75%,0.99) -> 0 | J13: =H13+I13 -> 0 | K13: =G13-J13 -> 0 | L13: =ROUNDUP(G13*25/300,0.99) -> 0
A14: =Basic!C22 -> I | G14: =(Basic!AH22)*(ATTENDANCE!S14)/(Basic!G42) -> 0 | H14: =ROUNDUP(G14*Basic!K8/100,0.99) -> 0 | I14: =ROUNDUP(G14*1.75%,0.99) -> 0 | J14: =H14+I14 -> 0 | K14: =G14-J14 -> 0 | L14: =ROUNDUP(G14*25/300,0.99) -> 0
A15: =Basic!C23 -> J | G15: =(Basic!AH23)*(ATTENDANCE!S15)/(Basic!G42) -> 0 | H15: =ROUNDUP(G15*Basic!K8/100,0.99) -> 0 | I15: =ROUNDUP(G15*1.75%,0.99) -> 0 | J15: =H15+I15 -> 0 | K15: =G15-J15 -> 0 | L15: =ROUNDUP(G15*25/300,0.99) -> 0
A16: =Basic!C24 -> K | G16: =(Basic!AH24)*(ATTENDANCE!S16)/(Basic!G42) -> 0 | H16: =ROUNDUP(G16*Basic!K8/100,0.99) -> 0 | I16: =ROUNDUP(G16*1.75%,0.99) -> 0 | J16: =H16+I16 -> 0 | K16: =G16-J16 -> 0 | L16: =ROUNDUP(G16*25/300,0.99) -> 0
A17: =Basic!C25 -> L | G17: =(Basic!AH25)*(ATTENDANCE!S17)/(Basic!G42) -> 0 | H17: =ROUNDUP(G17*Basic!K8/100,0.99) -> 0 | I17: =ROUNDUP(G17*1.75%,0.99) -> 0 | J17: =H17+I17 -> 0 | K17: =G17-J17 -> 0 | L17: =ROUNDUP(G17*25/300,0.99) -> 0
A18: =Basic!C26 -> M | G18: =(Basic!AH26)*(ATTENDANCE!S18)/(Basic!G42) -> 0 | H18: =ROUNDUP(G18*Basic!K8/100,0.99) -> 0 | I18: =ROUNDUP(G18*1.75%,0.99) -> 0 | J18: =H18+I18 -> 0 | K18: =G18-J18 -> 0 | L18: =ROUNDUP(G18*25/300,0.99) -> 0
A19: =Basic!C27 -> N | G19: =(Basic!AH27)*(ATTENDANCE!S19)/(Basic!G42) -> 0 | H19: =ROUNDUP(G19*Basic!K8/100,0.99) -> 0 | I19: =ROUNDUP(G19*1.75%,0.99) -> 0 | J19: =H19+I19 -> 0 | K19: =G19-J19 -> 0 | L19: =ROUNDUP(G19*25/300,0.99) -> 0
A20: =Basic!C28 -> O | G20: =(Basic!AH28)*(ATTENDANCE!S20)/(Basic!G42) -> 0 | H20: =ROUNDUP(G20*Basic!K8/100,0.99) -> 0 | I20: =ROUNDUP(G20*1.75%,0.99) -> 0 | J20: =H20+I20 -> 0 | K20: =G20-J20 -> 0 | L20: =ROUNDUP(G20*25/300,0.99) -> 0
F22: TOTAL | G22: =SUM(G6:G21) -> 0 | H22: =SUM(H6:H21) -> 0 | I22: =SUM(I6:I21) -> 0 | J22: =SUM(J6:J21) -> 0 | K22: =SUM(K6:K21) -> 0 | L22: =SUM(L6:L21) -> 0
F23: Employer's E.S.I Contribution | I23: =G22*4.75% -> 0
F24: Total E.S.I Contribution | I24: =SUM(I22:I23) -> 0
F32: Calculation of Administration & ESILS Contribution
H33: A/C No. 1 | I33: A/C No.2 | J33: A/C No.10 | K33: A/C No.21 | L33: A/C No.22 | M33: Total
F35: Eers' Contribution | H35: =H36-J35 -> 0 | J35: =L22 -> 0 | K35: =ROUNDUP(G22*0.5%,0.99) -> 0 | M35: =SUM(H35:L35) -> 0
F36: Eees' Contribution | H36: =H22 -> 0 | K36: 0 | M36: =SUM(H36:L36) -> 0
F37: Adm Charges | I37: =ROUNDUP(G22*1.1%,0.99) -> 0 | L37: =ROUNDUP(G22*0.01%,0.99) -> 0 | M37: =SUM(H37:L37) -> 0
H40: =SUM(H35:H39) -> 0 | I40: =SUM(I35:I39) -> 0 | J40: =SUM(J35:J39) -> 0 | K40: =SUM(K35:K39) -> 0 | L40: TOTAL | M40: =SUM(M35:M37) -> 0
B44: Main Page
B45: Result Page

Sheet 02
A1: =Basic!D3 -> # Firm Name
A2: =Basic!B5 -> 123, ABC Street, INDIA
I3: February | J3: =Basic!G11 -> 2010
G5: Salary Payable | H5: Provident fund | I5: E.S.I Employee Contribution | J5: Total Deduction | K5: Net Salary | L5: E.P.F
A6: =Basic!C14 -> A | G6: =(Basic!AJ14)*(ATTENDANCE!T6)/(Basic!G43) -> 0 | H6: =ROUNDUP(G6*Basic!K8/100,0.99) -> 0 | I6: =ROUNDUP(G6*1.75%,0.99) -> 0 | J6: =H6+I6 -> 0 | K6: =G6-J6 -> 0 | L6: =ROUNDUP(G6*25/300,0.99) -> 0
A7: =Basic!C15 -> B | G7: =(Basic!AJ15)*(ATTENDANCE!T7)/(Basic!G43) -> 0 | H7: =ROUNDUP(G7*Basic!K8/100,0.99) -> 0 | I7: =ROUNDUP(G7*1.75%,0.99) -> 0 | J7: =H7+I7 -> 0 | K7: =G7-J7 -> 0 | L7: =ROUNDUP(G7*25/300,0.99) -> 0
A8: =Basic!C16 -> C | G8: =(Basic!AJ16)*(ATTENDANCE!T8)/(Basic!G43) -> 0 | H8: =ROUNDUP(G8*Basic!K8/100,0.99) -> 0 | I8: =ROUNDUP(G8*1.75%,0.99) -> 0 | J8: =H8+I8 -> 0 | K8: =G8-J8 -> 0 | L8: =ROUNDUP(G8*25/300,0.99) -> 0
A9: =Basic!C17 -> D | G9: =(Basic!AJ17)*(ATTENDANCE!T9)/(Basic!G43) -> 0 | H9: =ROUNDUP(G9*Basic!K8/100,0.99) -> 0 | I9: =ROUNDUP(G9*1.75%,0.99) -> 0 | J9: =H9+I9 -> 0 | K9: =G9-J9 -> 0 | L9: =ROUNDUP(G9*25/300,0.99) -> 0
A10: =Basic!C18 -> E | G10: =(Basic!AJ18)*(ATTENDANCE!T10)/(Basic!G43) -> 0 | H10: =ROUNDUP(G10*Basic!K8/100,0.99) -> 0 | I10: =ROUNDUP(G10*1.75%,0.99) -> 0 | J10: =H10+I10 -> 0 | K10: =G10-J10 -> 0 | L10: =ROUNDUP(G10*25/300,0.99) -> 0
A11: =Basic!C19 -> F | G11: =(Basic!AJ19)*(ATTENDANCE!T11)/(Basic!G43) -> 0 | H11: =ROUNDUP(G11*Basic!K8/100,0.99) -> 0 | I11: =ROUNDUP(G11*1.75%,0.99) -> 0 | J11: =H11+I11 -> 0 | K11: =G11-J11 -> 0 | L11: =ROUNDUP(G11*25/300,0.99) -> 0
A12: =Basic!C20 -> G | G12: =(Basic!AJ20)*(ATTENDANCE!T12)/(Basic!G43) -> 0 | H12: =ROUNDUP(G12*Basic!K8/100,0.99) -> 0 | I12: =ROUNDUP(G12*1.75%,0.99) -> 0 | J12: =H12+I12 -> 0 | K12: =G12-J12 -> 0 | L12: =ROUNDUP(G12*25/300,0.99) -> 0
A13: =Basic!C21 -> H | G13: =(Basic!AJ21)*(ATTENDANCE!T13)/(Basic!G43) -> 0 | H13: =ROUNDUP(G13*Basic!K8/100,0.99) -> 0 | I13: =ROUNDUP(G13*1.75%,0.99) -> 0 | J13: =H13+I13 -> 0 | K13: =G13-J13 -> 0 | L13: =ROUNDUP(G13*25/300,0.99) -> 0
A14: =Basic!C22 -> I | G14: =(Basic!AJ22)*(ATTENDANCE!T14)/(Basic!G43) -> 0 | H14: =ROUNDUP(G14*Basic!K8/100,0.99) -> 0 | I14: =ROUNDUP(G14*1.75%,0.99) -> 0 | J14: =H14+I14 -> 0 | K14: =G14-J14 -> 0 | L14: =ROUNDUP(G14*25/300,0.99) -> 0
A15: =Basic!C23 -> J | G15: =(Basic!AJ23)*(ATTENDANCE!T15)/(Basic!G43) -> 0 | H15: =ROUNDUP(G15*Basic!K8/100,0.99) -> 0 | I15: =ROUNDUP(G15*1.75%,0.99) -> 0 | J15: =H15+I15 -> 0 | K15: =G15-J15 -> 0 | L15: =ROUNDUP(G15*25/300,0.99) -> 0
A16: =Basic!C24 -> K | G16: =(Basic!AJ24)*(ATTENDANCE!T16)/(Basic!G43) -> 0 | H16: =ROUNDUP(G16*Basic!K8/100,0.99) -> 0 | I16: =ROUNDUP(G16*1.75%,0.99) -> 0 | J16: =H16+I16 -> 0 | K16: =G16-J16 -> 0 | L16: =ROUNDUP(G16*25/300,0.99) -> 0
A17: =Basic!C25 -> L | G17: =(Basic!AJ25)*(ATTENDANCE!T17)/(Basic!G43) -> 0 | H17: =ROUNDUP(G17*Basic!K8/100,0.99) -> 0 | I17: =ROUNDUP(G17*1.75%,0.99) -> 0 | J17: =H17+I17 -> 0 | K17: =G17-J17 -> 0 | L17: =ROUNDUP(G17*25/300,0.99) -> 0
A18: =Basic!C26 -> M | G18: =(Basic!AJ26)*(ATTENDANCE!T18)/(Basic!G43) -> 0 | H18: =ROUNDUP(G18*Basic!K8/100,0.99) -> 0 | I18: =ROUNDUP(G18*1.75%,0.99) -> 0 | J18: =H18+I18 -> 0 | K18: =G18-J18 -> 0 | L18: =ROUNDUP(G18*25/300,0.99) -> 0
A19: =Basic!C27 -> N | G19: =(Basic!AJ27)*(ATTENDANCE!T19)/(Basic!G43) -> 0 | H19: =ROUNDUP(G19*Basic!K8/100,0.99) -> 0 | I19: =ROUNDUP(G19*1.75%,0.99) -> 0 | J19: =H19+I19 -> 0 | K19: =G19-J19 -> 0 | L19: =ROUNDUP(G19*25/300,0.99) -> 0
A20: =Basic!C28 -> O | G20: =(Basic!AJ28)*(ATTENDANCE!T20)/(Basic!G43) -> 0 | H20: =ROUNDUP(G20*Basic!K8/100,0.99) -> 0 | I20: =ROUNDUP(G20*1.75%,0.99) -> 0 | J20: =H20+I20 -> 0 | K20: =G20-J20 -> 0 | L20: =ROUNDUP(G20*25/300,0.99) -> 0
F22: TOTAL | G22: =SUM(G6:G21) -> 0 | H22: =SUM(H6:H21) -> 0 | I22: =SUM(I6:I21) -> 0 | J22: =SUM(J6:J21) -> 0 | K22: =SUM(K6:K21) -> 0 | L22: =SUM(L6:L21) -> 0
F23: Employer's E.S.I Contribution | I23: =ROUNDUP(G22*4.75%,0.99) -> 0
F24: Total E.S.I Contribution | I24: =SUM(I22:I23) -> 0
F32: Calculation of Administration & ESILS Contribution
H33: A/C No. 1 | I33: A/C No.2 | J33: A/C No.10 | K33: A/C No.21 | L33: A/C No.22 | M33: Total
F35: Eers' Contribution | H35: =H36-J35 -> 0 | J35: =L22 -> 0 | K35: =ROUNDUP(G22*0.5%,0.99) -> 0 | M35: =SUM(H35:L35) -> 0
F36: Eees' Contribution | H36: =H22 -> 0 | K36: 0 | M36: =SUM(H36:L36) -> 0
F37: Adm Charges | I37: =ROUNDUP(G22*1.1%,0.99) -> 0 | L37: =ROUNDUP(G22*0.01%,0.99) -> 0 | M37: =SUM(H37:L37) -> 0
H40: =SUM(H35:H39) -> 0 | I40: =SUM(I35:I39) -> 0 | J40: =SUM(J35:J39) -> 0 | K40: =SUM(K35:K39) -> 0 | L40: TOTAL | M40: =SUM(M35:M37) -> 0
B44: Main Page
B45: Result Page

Sheet 03
A1: =Basic!D3 -> # Firm Name
